BEGIN:VCALENDAR
VERSION:2.0
PRODID:icalendar-ruby
CALSCALE:GREGORIAN
METHOD:PUBLISH
BEGIN:VEVENT
DTSTAMP:20260423T232844Z
UID:f09fea11-6484-4949-982a-023ff510a0f5
DTSTART:20250715T000000
DTEND:20250715T235900
CLASS:PUBLIC
DESCRIPTION:Détails participants: https://ensimag-alumni.com/events/concou
 rs-photo-d-ete-ensimag-alumni-classement-etape-1\n\n\n_*Mise à jour 15 ju
 illet:*_\nLe premier classement intermédiaire est publié !\n\n\n\nArrêt
 é au 15 juillet\, tu peux aller le voir dans cette page par catégorie ( 
 https://ensimag-alumni.com/pages/salon-page-concours-photos-de-profil-ete-
 2025#classement1 )\, et cliquer et liker celles que tu aimes !\n\n_*Mise 
 à jour 25 juin:*_\n\nImage (extirpée): DJI Neo: the latest rumors and ..
 .  Image (extirpée): Perche monopod Selfie pour Vidéos ...  Image (extir
 pée): perche à selfie d'installation moto ...\n\n\n\nLe classement inter
 médiaire  de l'étape #1/4 du concours photo été 2025 ( https://ensimag
 -alumni.com/pages/salon-page-concours-photos-de-profil-ete-2025 ) sera ann
 oncé ici. Préparez-vous !\n
LOCATION:En ligne
SUMMARY:☀️📷Concours photo d'été Ensimag Alumni - Classement Etape 
 1
ATTACH;FMTTYPE=text/html:https://ensimag-alumni.com/events/concours-photo-d
 -ete-ensimag-alumni-classement-etape-1
DESCRIPTION;ALTREP="DATA:TEXT/HTML;CHARSET=UTF-8;CLIQUER+POUR+LES%3CA+HREF%
 3D%22HTTPS%3A%2F%2FENSIMAG-ALUMNI.COM%2FEVENTS%2FCONCOURS-PHOTO-D-ETE-ENSI
 MAG-ALUMNI-CLASSEMENT-ETAPE-1%22%3ED%C3%A9TAILS+PARTICIPANTS%3C%2FA%3E%3CP
 %3E%3CI%3E%3CB%3EMISE+%C3%A0+JOUR+15+JUILLET%3A%3CBR%3E%3C%2FB%3E%3C%2FI%3
 E%3CBR%3E%3C%2FP%3E%3CH2+STYLE%3D%22FONT-FAMILY%3A+%26QUOT%3BHELVETICA+NEU
 E%26QUOT%3B%2C+HELVETICA%2C+ARIAL%2C+SANS-SERIF%3B+LINE-HEIGHT%3A+28PX%3B+
 COLOR%3A+RGB%2834%2C+34%2C+34%29%3B+MARGIN-TOP%3A+10PX%3B+FONT-SIZE%3A+22P
 X%3B%22%3ELE+PREMIER+CLASSEMENT+INTERM%C3%A9DIAIRE+EST+PUBLI%C3%A9+%21%3C%
 2FH2%3E%3CP+STYLE%3D%22COLOR%3A+RGB%2834%2C+34%2C+34%29%3B%22%3E%3C%2FP%3E
 %3CP+STYLE%3D%22COLOR%3A+RGB%2834%2C+34%2C+34%29%3B%22%3E%3CBR%3E%3C%2FP%3
 E%3CH4+STYLE%3D%22FONT-FAMILY%3A+%26QUOT%3BHELVETICA+NEUE%26QUOT%3B%2C+HEL
 VETICA%2C+ARIAL%2C+SANS-SERIF%3B+FONT-WEIGHT%3A+BOLD%3B+LINE-HEIGHT%3A+22P
 X%3B+COLOR%3A+RGB%2834%2C+34%2C+34%29%3B+FONT-SIZE%3A+14PX%3B%22%3EARR%C3%
 AAT%C3%A9+AU+15+JUILLET%2C+TU+PEUX+ALLER+LE+VOIR+%3CA+HREF%3D%22%2FPAGES%2
 FSALON-PAGE-CONCOURS-PHOTOS-DE-PROFIL-ETE-2025%23CLASSEMENT1%22+TARGET%3D%
 22-BLANK%22%3EDANS+CETTE+PAGE+PAR+CAT%C3%A9GORIE%3C%2FA%3E%2C+ET+CLIQUER+E
 T+LIKER+CELLES+QUE+TU+AIMES+%21%3CBR%3E%3C%2FH4%3E%3CP%3E%26NBSP%3B%3CBR%3
 E%3CBR%3E%3CI%3E%3CB%3EMISE+%C3%A0+JOUR+25+JUIN%3A%3CBR%3E%3C%2FB%3E%3C%2F
 I%3E%3C%2FP%3E%3CHR%3E%3CP%3E%3CIMG+SRC%3D%22HTTPS%3A%2F%2FENCRYPTED-TBN0.
 GSTATIC.COM%2FIMAGES%3FQ%3DTBN%3AAND9GCRTOFZBEZOGU07EBUWWH0H9E--OFN16E3XPT
 G%26AMP%3BS%22+ALT%3D%22DJI+NEO%3A+THE+LATEST+RUMORS+AND+...%22+STYLE%3D%2
 2MAX-WIDTH%3A+100%25%3B+HEIGHT%3A+AUTO%3B+COLOR%3A+RGB%2834%2C+34%2C+34%29
 %3B%22%3E%3CSPAN+STYLE%3D%22COLOR%3A+RGB%2834%2C+34%2C+34%29%3B%22%3E%26NB
 SP%3B%26NBSP%3B%3C%2FSPAN%3E%3CIMG+SRC%3D%22HTTPS%3A%2F%2FENCRYPTED-TBN0.G
 STATIC.COM%2FIMAGES%3FQ%3DTBN%3AAND9GCSHAWE1QF3DPU6-WOIFY4DEHX9B-E8K2DIMZW
 %26AMP%3BS%22+ALT%3D%22PERCHE+MONOPOD+SELFIE+POUR+VID%C3%A9OS+...%22+STYLE
 %3D%22MAX-WIDTH%3A+100%25%3B+HEIGHT%3A+366.449PX%3B+COLOR%3A+RGB%2834%2C+3
 4%2C+34%29%3B+WIDTH%3A+283.099PX%3B%22%3E%3CSPAN+STYLE%3D%22COLOR%3A+RGB%2
 834%2C+34%2C+34%29%3B%22%3E%26NBSP%3B%26NBSP%3B%3C%2FSPAN%3E%3CIMG+SRC%3D%
 22DATA%3AIMAGE%2FJPEG%3BBASE64%2C%2F9J%2F4AAQSKZJRGABAQAAAQABAAD%2F2WCEAAK
 GBXMSEHUSEHMVFRUVGBCXGRYVFRUVGBOYGBCBFXCDFXYYHSGGGB4LGXGAITEIJIKRLI4UGB8ZO
 DUTNYGTLISBCGOKDG0OGHAQGI0DHX0TLS0TLS0TLS0TLS0TLS0TLS0TLS0TLS0TKY0TLS0TLS0
 RLS0TLS0RLS0TLY0TLS0TLF%2FAABEIAOEA4QMBIGACEQEDEQH%2FXAACAAABBQEBAQAAAAAAA
 AAAAAAEAAIDBQYHAQJ%2FXABMEAACAQIEAWUEBGYHBQCFAAABAHEAAWQSITEFQVEGEYJHCTKBK
 AEUI1KXWFAHM0JICTEWNFOCSRPHFUNZKPMKDKK0WTLXNVSDW9P%2FXAAZAQADAQEBAAAAAAAAA
 AAAAAAAAQIDBAX%2FXAAJEQEBAQEAAGICAGMBAAAAAAAAARECEIEDMTJBE1EEINFS%2F9OADAM
 BAAIRAXEAPWCTC04JU4SNI3XA8%2FA4T173DEI3THBPAEBU6R0W6LFQNC1S0YDFUNC1RGTU4WQ
 NPAXC153NWHDUU5PAEK%2FU6ABDWJS03UANGK82Q87MRE2A87INOXXGZXNC1Y9XXNCUAMV3C15
 3VWJS002ANGISDW%2FNLMQFE6MYECWZVJRQFLREUBWU1IMC5KS%2BGWSQONSD3DVBRA8SQVHXL
 CISBRLDUYTB2REGU3YCFFD52YGD4FWWUKCOY08Q53XXIOK4REGFWPFMZ4GOYKBGOM5GNTPY2NQ
 AW762T%2BOFQ3TFXNBSVW4VEGYCWYK95CQCARQS5ZPXUEISJRB2%2B0LMZ%2FU2BJLGWCWU7UO
 VUAQ66LIGQTMG%2BX1ONTP2EW%2BDITI5CXGJX21LBLYGBEEZS0WCOBBENAYMGVSGOYFQDB8YG
 ONR7DDVYB12ZRHNUEWNZZSA3CMLIK42YA%2FGP%2B7OQ2YXALLR2HAZFQIALXDV0A5SAI1THAQ
 0GDIPEWO6UAMV9PJOPBFGPHH0QZRDTAAV%2BJ%2BVKRHNSPAALW3UGTUSTQPVS1RRHAI2QELVF
 RZQRBNT5KWELVPFMJRZPWS0VIYBFQND1ROS04WAXKEAXAR02ANFQND1S8JXX9ZS7MRHUAXC0EQ
 8VB3NE9ZVH3FE9ZR5DFB3NEDZVOMOELI4EJYHIQU4RW2KTHHPP%2F0I0EQXRDPZCXP0HCQ%2FD
 HZ3BHEVBGABHK3ZLTYM7RXPLZ3B%2BOK2A1NK2S2LRZCQAQAHSCPDQTOUTDXXNDE8XISY7WVME
 SIMEEVD4VD27F2ZDSXBVZ4RMRVT2H9TMCXGIYIB9KTPPPQYBA6PI2%2BOXXAXGGKJ2IPJO85UO
 O%2FM61IRIU9ZUSZFYJ942HQNFLXUU014QL4BTPMGNOYBIEJLIG6666WA5XYXZN0KAANF0EH76
 W5TX0DOIDNVVSPACGQIKH5EMQGEEDY8%2FFVHJLI2VDXGCGKKO3ZMOYOO1ZJ0GTCSBIR2SUPTX
 DBXWLCIYQCM0TMIBMAHECRRGTBLIVAJDKVUWFD3NCZBI3LTTBISD7AVA5ZQADLEEHWTOVM6MSC
 7A5R8U2%2B2WWUFF1XR1DGGJLOVLDDWKOHIPOCPILSORRITCUXOGVTLV3M9T2U5NZLYQXU5LYK
 EGNJXROWHGQLZDENUS1PZUXQLRTHIXOWY315%2FRERMDP8FYE%2FCUI2ZUNMIZEAGNYAG6NUZZ
 JRM%2BPV5J8VU79Z9NUFJ2ENSEZMMGLWYYHBGBRL%2BY40ZFJQPIG1BRGD82KVK%2FWBEKW1UY
 CGGO3ELJ55QCPGAFCA6OQQENSURY1Z9CZCZ%2FU06%2FKLV99BT%2FZHWPU9LGWWZUQ2ALW1UG
 TVPEMFIEWZTXZOXBNOFQP8JWILVE91RFD04WQWNGPUQQT0Z3VEI1S08CI3XOT0V3DOFUJTWKLN
 OFIIRBP4SJQE7IPUW4QUPUIPS0GGZPUFC0VSAOMN3FOFGMI1FSRROXFH8IAJI1R3EYIMCDQDEJ
 KYIYFMUWIWKIVA8QBPTKH6UBD7OUHTJCUC1BDEQJMTPJY5Z6GEW9YHG1PLU3LIMO1GLSJGYXEJ
 WNQ%2BLRIZHDAJODQZVADHDHML3RHDKXVLBWLMPCUOAPUDCFJQDORODNOSNMA8%2FJDCG%2FR3
 WNCBILR3VDOIIVOOZXSQPGQVHQWEVWXAL9G9%2BY4FBJVBFIBJMHEJEG7WGWQIMZ1611DSL2VX
 AOWZK7PLO62XBZMFJ2ASF06C5POIO0EI7MWXMGKWP73IP4V5%2FP%2BV338%2F%2BL%2F1XMUW
 WBSYWYBCA3IZUHMINKOIC0D3STFV9VNDUARURPY%2BVMX9XMAZJXF76VUZEE7MMVE1TW8ZNPQA
 QLJAG%2BG2RST262%2FHLY9ORHWTMZLOS7MDQRYYAZ7PCDZGIUGDNMCMJW9VELEODI3YSCVDFC
 WIR56472JFF4H8TC8I2ROSOVSJ5NUKNQWOLBL9DXAFLDBBOFBEJE3PK6B4H6MQ%2FFF3Q3NORY
 DE7RSMCUQBFKKGATMPFTVMFQVUP6WIBZP3C1PSPGH7MVTAOGCPATB4DFMNFR6MAPWFAWGMNXNC
 0DLRXRDAWGLNLU6IZA8C0AMQ93XUSVMZIETI1Y4CQICSDTOOGGPPQDU1NUB9USHI7OSWWUD40W
 GS3FBGFJ4OGAA7XQMAPLSY1LFOVACRAVIOQCWAQT0GYONK6LTLTYKDXXMTYN%2BLIXWPS4FDSD
 BTOTEBUEIBLI%2BANUZLGWDP2LJQGTF2PXJT4A6UHJKKLAZEN%2BHDUKDXWUM9MRD3C4O46%2F
 YXAS0LJSE6UAHKZN2EHVLN4NNU98%2BXPX%2FBHBXP1ZPLHVOLCV7C8C7XXBSCQAESVNMX%2BK
 JIYZROWMM5GVGS%2BBVO2W8ACWI11Y6NANYFHXQO1TSQ5M77J2PPKPZPXH8P%2BN18U2%2FBO4
 S1DWYX3ZGQTQNIK1C9SB3C2RGV8L3QWUEHVUIHVI5ZHONQ1C4MJGKCR9BEI9LDF9WBOKX3EBBV
 EA7DILEYW5E77Q0VCNR9JRRWDXUHA22RHBHZ86L7O3ZBXFT19PHVH6QZHZFAVJVCO%2FS5LHJQ
 SPMCXWP4Q4W6CER2RP%2BL5J3NZDTH0R%2FTFCFVF8RFYPVYB%2FBSDPNXLBZGEO%2BBACBTST
 OARIGHA9Y04CPATI8RQTPC1IFPWWG8RHA9IPQLIRTCKKUU%2BKVARLABKQWKUUE5F%2BMLN7UZ
 BUEHHCMCT4LA1GG6SDFM1ZZ9GNWPXXCA%2B0BI%2F81LWPMFLXAE3%2FZ%2FE4U2GWJ20ULNUM
 4WHGFKTLKQFFKAE861YJ9DNB1UCRDOXR8MGCW2TNNZ2RZNWLZRMXESZINDDP9O9HKLTRSFOFJK
 WVKBNOA60KR1UDROOJA4C32UTQEUDMZTE9BPQAUBLXVBYNQCTWL7U37EMUWMO%2BRKDM41KSAX
 UW3VWI3GOYBFHQ4VB9MGVXSLBUYGS126XUMFJ2ZRYAOGGTJANQDKWEJ%2FSBJUDZAS2VTBIOF1
 BJNAYIWY3BRPRA016TXQUFUES2W2BKIIS3TDKAQLUE4KK9ERFZDJPYS6927DWB22DM10YA7MVW
 5L2W23SSM2OBIHKEPM02T7G4LR%2FABXKVTQULNXBTU2PFKHRTMPAXOGAG368JW37LYG%2F7NW
 6WYQTMKGLMJBA7CGCJZIWE689FKS9%2BHVGXF3RUIPHW3BKK2XD3ZULSEYTHH5ZHXUBFZIZATJ
 ASRAFUMPBNUAGVPTAJC1HZTQ83W%2BX5SFBOYVCW8OHJ9%2BSKT6NC1LHSTCL3G0A2HJQNFJWJ
 7WM4ZBDXCPGY49K7AEESBCQGUYELHKUSIUMWZ%2BQTOMXP4E%2BVJ53N8VUTD36VMBAAA21YJT
 TW%2FULXDRCXJZFKZB%2BYNBNL5UTKIA2IRZJL7ZV6MH%2B1PD%2B%2FSVL1NRVSOEUQQPWCZR
 Q%2BHVW7%2F6MUCZZ1NKLPKFHSR0TS%2BVWLOYU6KCFRMJAKCBTWLOCUA0LTHTWKROCOLFPPUW
 ZFLLT6VIGZAWWNMO3UUB7FCK%2FSRH24DJBXEMIO7NXBNEQBKZPLOY%2B3LDNII8WQKAQTXVHV
 EDVPAPALI8O9HIBOQTE5HGQNHODUOYJGXPLQFS5XLMXH0VPGUJKNCRJ2H6BEHMRKEDWDCR7ACZ
 FH%2BLFCXPRHOQQSSEYNLGP5IZZZ523RPHRXXXXHHP5CJBBIYMVZQMXHGBBUSXWB5GQ%2FF9PI
 VHINTJESSGE8IDGQPOLFQNV6AHHRNTH5HZ%2BXOUDDSRT3CYV6CIMC1XLLGNKA0BNPBYVPJMGW
 4TOSGTPE6PTX2VXNTPO6S3EXBCYNHIRIVBZQKAKMEUZZNTB2SZISWPO10G8CPYKATKKAZISBPQ
 C%2B8XQACORC4FTRH75DVFA3DOHZHLVTCDMGMVPCZSES0C3FR%2BLJSYK49QYJF%2FFMSC%2BY
 EXYFWGQU5NQ66XAZAYFSNHRDPHV3HNXSS%2BUGKTPCIRIJRZ1J5AXJYQEVEVUTQMOJXTY1KNNN
 EYQ62RB8NXDNAWBYWQ2WQ6S7HMZNEFMIIJJ02ECNNK8FTSXED4JHPLLN4DB51NBSODF%2BCFGV
 BHX1K8TPWHUQ%2FTHFSNEZFCW7QQYC2VWYGAWDNRRHLRVZ2QT3LX%2FAGYZSOG%2FGCRRQBI59
 KKRWQZ4LJMZXLPAY61SUP8AEMACBFVWBV9FDFHBUZ4LMJBQ%2FGUH%2FJ5%2F2NXM1PZWEWSG0
 UK94WYP5EJXN%2FDG37XHSJMHHNP3E9BMBABOKAAFGHOK9RMDZZSHN9TGLYBUDKO8MAJMCUSMQ
 PA9RB2IVI2OFLWVOYEL5AZQXIMIB5VHPI%2BTR3MLTKMTD%2FSFP7AFC5%2F7KVV31V8AA3F%2
 BO1KTP4%2B%2F%2FTH%2BFL9ARXORWGKQA7VN5HXMEOXJPOEGTTM5XGUUM1YOU%2FNPCTHZ6Y9
 3ZOUXTUB3IOK0V9IPPXFASAU6U06NN%2BMG5QJVGDNFFUYX6IFLF4X796R7OU9CE0JDXCQTJOB
 FCSXWBPQJRVBIRZE6KGEUP%2FLROXN%2FANJVDVUEYM17YIDSDQFZRMHQG923UMHOIUZ2Y7TVF
 SAENMGAM%2B0RSC3PMIKNZUNYIIMTCQOWZCWYEEH2SDOQFTEDC8718JJMIBNZNOJYHSEHJVRM2
 GA3O2LJC9ZHTV4GROQZNZLR09AAXJ3RHS3ZS%2FWUWBUYHABDITKZ6%2B22HHRIGSDDBETYKFE
 9ZUBRKRKDIIJNCDALBLPJGGD9CDA3QK4YUUH8RICGUI2OLM4ICOSZIEZO0QQIJIZILJ%2B6O%2
 FTL2E%2BJXCHUPDNX1M%2BYUWYLQXLNXKRI8M7DQHNPOF8HW1OPCWR73PENA4QS5ZTWBPPITQ%
 2BA7T3SMTLZGYOFUKVJ19P4OKYDUDRBJ3P6Y2XCB2WW9YSPKYYZHVOMZRZ1BEAZTT30EXN2PUL
 YWXFKHHOY5HQCCS%2BHUE1Z6%2FGARG4AZB9ZGJYJQ9PQCEPRA8NX%2BFVX%2FO1%2B7ZE5IXX
 LSTHQKQ0CDN6YVEOHLDVMUEX6SH9VWHBJJM52GMK6KCPQLZIBB1Q9RGSNS0XHTE85IR0MR7J0Q
 Z4XJQGEQLZYTLLEMBMIV3U8OFWODS4FCAMGFY%2BB%2BUIGLZ%2BRB2HNUY5BDY%2FXTL8WSX9
 BBYWGY%2BO2TPMRJQI%2FPQXP34%2BS2M0E0OGS3UE6JMQNNKUELINGCWCWDEZY5A1MUO8ZBG3
 7L9WFLKEEA5QQHVE6TOBRVZ2H4V3VX8ND1ICRJSVPSSOH5HZBGTYZE2MRIP3HPKR1RXJIY%2BP
 RFV7E3EIN4C9KU22GHDCCOROK%2B6ZQK4PGUJL9PZINZKCKK4TGZCUGCL8R923ZJ51DADWTM61
 %2F9ILN9NA%2F6VKHPONN8HSRPYJZ%2FKPPYGVTCGVEBKCGCRFK1BUTWU%2BIOW5FIHBL3ZQM3
 TTXF6FG6AZ3NNQXUV53LBC1EMO9BVILG7AE8UO%2FEV2N4CLP4SWUUPEUQPBEKP8TXNGTB09B%
 2FRNBXCCZBZRP%2BK3V8REDXXMBTRVVDVT9%2FQFFQBXWDSFD%2BFZNEQRHMFGVUMN%2BNY86S
 HBX4WZ1260E9%2BWGXJ5HQA6ANPT8A9A%2FAJKEEX56TZ2%2FOTV7XNYAPLQFZV76CGH4T88AL
 OGAARRMRGOBJBYRODPMDCVWRHQGUVVEAPEO1DAYMDANQRG290BXHGUKSWEA6IDJNL0HMALXGET
 VYBDTDBMCALKIMHIJBHNZ1AA6ILBIUY5PHEMK%2BGNQ4FFADI14SXPEKZ0RTGJUSDWHAJBGXPE
 8QV0VL6BIVKSPHIGAPESOEYUST9ONO60J2LS6MIBEYFFQ6QW1UHSZHRVLAAZDRREKHWDVREYEF
 SX7C3%2FO63LIFG7KCILTNLJJAQSJYMJCUL4PWNJATI%2F%2BSYM7UHAKLNJUCTRLZ1HLOLT4H
 HQL1S4QME5FWKKAQQCTROTLALVCTIASCQ9U9BGMZWDLKVBHG5HBMJEZHMLXMGSWFEDIQYM47I8
 8CGPHZM5LMYRMKYIX7NTPZVA%2F0VWL66WAYMDZIUIII%2BILRQBQY0E7AEQQCM5XDI4N02SI2
 7SMSABQWO7N1NALBCVS2MIHEGGQLZW%2BIABG3DUBEVRP7JOXACSAHYJB4BHF11S4HSVL5SASP
 7RCAF7W8TXRZAFHUL9SDX%2FHJKZRN52MTVR2M4HIMJCY3L3VIRKCYSFJVW9%2B29UFC74UKGR
 C03IOAEWNG095GDAMRT11F92UXS%2FRSHDCKPD29PZKAPG3Q6%2F36W3ECULPGUHSRMBZ8%2BV
 XRY8C4BEXPTIILLDPCQJGZTYZETOJOUDP4D6FHOW624NYSTTNHH%2BAQ5KC3JPLYYRBL5FZIE6
 GOZ0I89V%2FAA1S8IQWUYP6K82PU0TXJGHD7DNOTTV8DX2Y5VEZUAGMVIFTT2D6TSN2SW1WBVX
 SNQAD22NKAQFVOVTN83PXXQM53J%2FZPWNE12N6PY%2FSFLSQCJH%2BBZVDJ3OLV2LXQLUZ8L1
 NVWIXJNVP3D4UGWFA62XYXENGYS3R%2B8Z%2BQ2PG4LDO8L6AT86C70DFX0QNSTRSPFN9MP2MO
 N7OOA74OJY%2B8KX7ZQZV%2BS9BQA9FWZZZA%2BQOK%2BO393SLZVJSGANT3ZZQB7W%2FKTPJ8
 UCUNDXMSBKCO%2BGLRPJOXXTXMOVW6MKEAZDXZI5DDB7O2OC3YDVZPY%2FPWOL2IB0OKICENOK
 CL6YNTNGYMCP%2FAJ89DQHTYQNDAZ0MECBDN5VFR6TTIN7VL7ZUY4QYLDTMSAFCT6KHFYDBUYU
 AC5BSECQOVMZRPZO0GTRSTGKQJON37N4U3UWURES3SG8UU6CJ%2B6KMBFLHLTJXNPOAJJ%2FAB
 1FJME%2F0FYWBVAWITMEMQNROG35E1TSTOTVXIWE3CDMSOOJN57J93P0AEVW3ZNEHRPZPZTLZR
 ZMYMFF%2BZMRLHODF226VCZMURAYGEUFGWQFPQ66GXGMSNFMNBW31KLIXYXD7I8RGIAHWEKOFT
 PPN9RV3ATAJEYE5BCGESWQAMCHTOFX01BJA%2B2OTQ9HOANGBF29ECF7MXLZGQFQTQSDDY0MAQ
 PA2QW4QFFMBHETYKUJM7BJOXJOSD6R%2FAKYXQAGB%2BHKON%2BTENORVTXLIAFQUTI3ACWDTJ
 %2FB2NU%2BEUTXPCXFVDORMBDUJVSMYZOI8MDEMOHZRE4HU7V4AZEZI18JLUALBGAY1KMNFAKZ
 1GVV7NE7FXHLDIG3ADIJRJWQRQYKESNJQSXNRZJ%2BGDWLT7EGAXS2HE9RMSOYKC6ZXA6W%2BH
 VD%2BCSJKCWRRIBEK666KEMPUMIUERRED4Q%2BJZXCZCKADJ2%2B7XOATCENF4YQDSHNQCP0ME
 HG%2BMALRZF7C67R9ULJD6QWE%2BW7C2MTWSDAVDXACNKSXAOEQRONQBS7GY2ZCS3LLYZCS2GY
 I8YKRAYRCDIYLTMXCUXYGDVV46WBF0Q4ICRZBHWCNRWG4T2HUWYQTNUWBMHSATBKQIEPMAK7TS
 8TA3IZ6WY4GUZWFCAAKMVQSSDXMRMWCEWO3NLQ2O40ROAFVQP0CAAZURZLDAJ3%2BTLF8OTXCW
 TGWBQEQ9KN6SONIBJ6RUGIGU6KKSC1ZZGCNV2ZJRWJY5IUK6BKSI1323ANT4O1JXI33HW60SXB
 KPIE6%2BSYPDUVGBADXDINOQIWW021VZIGEGA6TO80DFFWAZLIDXLPRQPTTWL7B8%2BOK%2BN%
 2BZ%2BJR2RF8A2ONSVAD2L65DPPSETCXL3SI%2BIXAXZKF88SJU7MJ%2FMGQJPBINOY6%2B%2B
 UMRXUQ%2BJGC%2F504KWSOGPPWTG%2FQKBEOW0T8TVLFOWELF2IZDWNDDTRB6SJ%2BNFGGNHN3
 M%2B8ZGQD5JKKMNGLHBIQQPA3MEMGJSDQARPL5UNHSKUCNMFJPGYZOYZEEDYU79NJPVJH8U93O
 FJWCW8BYXLZTA56A6ELTVSKPBACWNUKCIIQC5PQYGC%2F61ABZJ2TRPJ0NXMEY5AFGAKXLY4SS
 CU8TECFVGLVT7IJANXKDYGGGNU5Z1O0SELZASZGBPQB010HLXQRTTUG5BT6%2BRNUVXNJMIJ2M
 JA6AHUHQAFHQCHE9ABNI0EKX7WBWGFUFOPKKWLV26CZNXZ%2B8%2FCORHYNKJ5HW0NCBX1KCTL
 KX6JTN%2BZO84EKJXDJAEBVRCQ0EGD3ERGDDHONXMPBXASO9BOOABWROIYNDHONUNHWBTTLJLD
 OL%2FLIMWCJGNSIYL66LTVQMZZEBQ5BBZMXIQLJB9GHGXWQNRL36VW4ZTGXUIBSAGQQPNAAJNV
 PLEJESROO1PEFQPCBNBQT3WTZWMBDXEMAIGMUQ6N%2B8AXGCOHSJVCCHGXB8REZVMDXOMX2LVM
 DL9WBFZAJ8ZQ0YZJ1G2G0OZEN3DE3RUKLVG0TOH5%2BGDJJCGDKP46RYDBUXMIVXPHMYDZEYJ6
 KJR0FA4%2B5BRLTLCMKBJYHTADJXLVPYGBZNEPX4ANWUBPDWWYIIKT4IDN51NWI8HJHEXFRMB3
 GUWXBZS0AT4SYMYPHK8TZ5RFTNE1O%2B1GAE3JCLEVXMU4VK5W2MOTIQPSYIBRQRDDJADCRGAN
 ABAWSPEVLP1DO28MKHDCKMVID%2B9CE5P8NSDO8MBXFXIBG%2BQW2FE8CDMEYWKQJ%2FAZUP94
 QTS5YY2KROLXL%2BIDXSSZZP77NUDX0S0WDPG2SWGYAGUKLIINZONY94FVXY3TEL%2FEPZNT7T
 KJKVELZYNTSQTBHNVSECFU6CJ9LMAKIJ%2B1GNXKDDXNU0STGEIW8VMQWPEZTM0JI5MBYDMHNR
 U8%2BXI1XAFGTXDCWPHAIAMIXU6QQNYCSHTL6VJ%2BG3O7VWXCHHV0JNOGGB5V1HJUBUXKT37O
 XMOYSXIBY%2B0JKF%2BB5VLO2HCKUF9OSIBZYQ2WYDDCBOGN7JODJSSB%2FH1SW7TFWI59NUXP
 DEUF3F1VGILC8GDZIKNNAJHORMXXR8KQUP73NLRVAHIZIIDZ4FZNABJEBRVZLIWGES3LM5FW20
 QBEAGNXTQNQFAUCTGCGXKXBWZW4HWBXD2FZGHAAMMXGSB0PAMYMHX7HQIBQKUZY%2BQXC5TCUN
 SY91BCI4QZMLN3XLCKITZAEKI9AAPSTVI8FNTAE6SUYT9LMJX10GT5GSVG7IS%2BFC7PVSPFR%
 2B2V3HB%2FWDZLV7CV5WX%2FPQN9OPN%2FKLTZ%2BNAX7GIK%2B11GNXOA7DUQBMEAFF0RY7QQ
 QSDBJP52RQCX1LVAK6X95J7QDAGNLYKNAKBAEZT%2FTX41PYWZVH8C24J5AHBTX4URAWIDS0IX
 MQTOZPIJXCDXXYVFQPEEPWRFI5DGFJ0GPIAJEHUGEMTMSYPRLEBS5ZIGTBANNOEROYKB%2FOPB
 1P1XRHBJASJBZDCZUFFVLIFYRMM5VIEKK%2BIKNUZ6HPSUVJCZSYB8RIVX4ICSGAAGEI7CDBWC
 X9OEKCOVHMZZR4TO0MIMBQPJR5ALYRGMWIMXRSPOFKBQOJJXQJNTQ6ZMJZ9ZOKMO6QDGHMSY1A
 IHNUYO%2B1SQRND5HBT83FQAADWRETR0NXPTGK2VFY%2BRGZYIUXXEALQXBAMDGZY1VCU4OXIZ
 OZZUCKPK5UA5ZVAWFIARRMHY3OMC2P7KZQT%2BVBOT5KIA8AZYHOSWBOY5TVNJELSXYSXO7OSX
 PN4IY2NNRQLM1DXDGAT1YMFAHU7CRDA8LBJIA%2BSG64ITA%2FULU5QVUNW97DUA%2BIJRJJ4M
 KMHZJA8R6LLN5VP1WFTT4%2FRJ56IP4UXW%2FGAMU8Q7TBLACJW%2BEBR1HH0GUV%2FAC1N%2B
 T%2BJXMG4NICJ7PGPMZP8UU23WTEHA2EVI%2FCDK2WGYXW8U6KEZPLH7NWA7A8UUJXY01OLT5P
 TC0XOAV2%2FATSB1GGFEIKL7N4GRI8MYN662I%2FICKFVRPXD7TXBIPOUMWURVDGJ9IMQ3TBH2
 U40HDWYCQWZAAVRCUVPEHM2U8%2BYKQDANDD4XHBD62BD60TXGI0ZCW06DKRO4RK69P%2B7XL9
 LXISJCOVPZNAXWTKBULZMAD9OPNBDTJXBEWRL20ZM4SFQIL87IJHMJY%2F3A4TYIGMXGN4UPBH
 EUFCCF0IPKTZZWCW0WCHO0PGBXEEQDPFVB2H7HXRTI5N7TTLLLY1BMSQPCMOJ23JM9DA5%2FWB
 L%2B0FYXEV1ALYOBYSFYHWUGQUH8LGPOK7HWXIQ4M0LI3EME0A6KKWNQKWRJWBI5ZYMX1LZ7I5
 NCS4L%2BKU%2FHLVND9WJRBZFZISXE0RCFVNAGGBZJO21B3T9%2BKHCPZVJBUK90QUCQSKMDJF
 MIBB3BK%2BVC17Z4CWMAB%2BHKWLGUORMK6KMV8WGJBKRWLXYCLX9V6S5A0TNXXWTOTVM14K2S
 7CKE3XUJLCYRM03RT0LQ%2BYOMWRYRWDMVVW1ZTOUCASFG3HCKJFAHUZBUK2KTUGXUBYUFTKVM
 E4HADJOAWRTPLITVWD7I8UWT28VASYYYAYUZCZTNYVMZEEMU9GGAW5NQ6VPF0F4P7UFDRJLW15
 WGJBBUKM%2BLAZUD94JVUWYEQ7C8T7ZETYGQ20KNXZO7U53SMD7GBKSANCIBNWZ7R4DU5P7RDJ
 %2BAONSRJKW%2FJ7H%2FWB2LONNJQUGJQJIE896R%2BKCRA%2BPDOBJ099Z38M%2FH4QMFOLUE
 VUHPVRT%2BWBOG9340RGCGQQ7CF6MDWRYGSUDGEHBVBCWXPQNWKAG8%2BNTNYQTE4TFTCVV3OY
 JWSGGOJBTMTPY5JSTR1%2BO5JFMMAFAQY6DLMMM3IZONZPVQON3FSGFMUKDQSQCSQSPGPJGWME
 7%2BVCX%2BOVKIXIZSFCBMAEBNZ0I0POQFIHFWCZSQVCK7HC7ENBYRP5VEITIDB8AOMWSASBHJ
 33GGKTR0G400GV9ZETSJEE6A8%2FZKSDB0J86EATRYB2KNXQWFHPZJAMKQCWINCTGUYMROX57H
 OAOTSBKQCDIONUA%2BKSJMK9FSI7960ME%2FDVIWH1VSKCWKGEMZUKSDCAZMVFGBNM45C2RYZO
 TMACYAAJNQAI%2FEFUHGOLNDBMZTCHVAUIQGCPCO0WNHOULCRZ7JXGJZMBLGSIHSRGWN8ZUPDC
 CLN1L1SLPD2JVJ9LBZJ%2FPKNG8P3JEUYRDWBY6DZNX2HURMDMFY2WQLPTLBESF3J1GO5BU7CE
 IVLLRKBLQPHSJWY53T%2B03LYQA3XBR4TZ0N7OKAGHENQFLZIQ6%2FJBGYEFSSJHIXORTPC0SD
 TQNOYBXD%2FO9YYBLWVNJBIFIUE7ADDO3JBGXHRZ3ERTXMNLHSLEW1NS2CDMMVUFYMMWIGXZ3O
 KVR2MM7OVAQSNFUEMZBUNBKZJUBBJZOKX86RBK3CPZQSAB0LDFYGBJZMP%2BH8LXDB8QLQUHCJ
 NELSBUYGO%2BNPCTFBZDSDAGAO0CVU0OPBF3UNPQADPYO1GYLHPM3MYK16CQVMMFJO7ADRFEDV
 ZFG3CYRZCJK5KZIQ6GAACWCYEUCPLQ1BYM7I4FU8N54ORDAZBJMIYLIMROTE9PKRG4DRCLWI20
 %2BYM%2F3N8AXCU7UXNI8TS59F8KF%2BIMMCSU5EI5GBP7X1B7VNWVKAPOMYMU11LMW%2FAGEQ
 3RADQECI4ZJW3DNER5EL3ABT9UVBVIWDFOFPGB7SIXVHMJGQPIT4JY01Q2WPZBLDWYI%2BS5TL
 STPAWJARKB1GGOP2HVOO3KCJGDY1CTOBV1WS4HGQWYSCORHI%2F8AZWR7I8FNOI2XUC2QQVRA8
 YROGGAYKDKC1BH9LVZN6QV0Q0S3VBKOAS6IB09PL1OK6AEY5JHRXEEAEDOVUVCVLFUNDPOZ4OH
 ZKOFQMXYQKTBMPEEHEQMUXWSC%2FFBV0YYBQUW5DVSXIEBIPCNKFZGNJ1ROFZHHJG2EW967IDC
 TESLGYDV1C5VLJDQCTLIGATTWO7E8H7M8Y6ZSJDCTSEY93VBPT%2BIG2OCDDVYWMI7EUM1%2FE
 ZJYOI22S2PPQF2MNMDTRW44OIYLHBNBQIWSMJ3ABRLUDPUYOIJJYSDQWPAMRDNTCU%2BNIXVCR
 2IIRNDVCUBJJQQQG143GHUDY61OU2%2BOL4S5BT2VANXDEDLLLL8LFCWYEMGNXBYMPTURPKSUM
 5%2F2FUNLXIB0DEUNQM4B8BVNH1YHMKD3ZQ3BSOVTG5%2BY5ZDJUIZFXWK9NTQMTJROMCH4GT9
 1T19TEPPCFQ%2FIV5UX0BEFAB4UQWQA3E45ZMHJTGPWDCAI21%2FMUGBRBYGNOCQGNFY0JXTLS
 XEI%2BJKDSTE8VZRVFIL500CIJJM6ANSJ9K1CKMXK5EU8GBJE%2FIH2VGODAPDIGSDOCZRA%2F
 L99EYI8WKLO%2FIRP6Z%2BYPL1LIJPAY%2BYAIHICDOJID1PMIF8%2BIHBTLHRPMB7%2FADPYZ
 E8ZLAPI5NMFFV6U3DXBHIIG%2BYMROJ91WQ5VTM8IR7A5LZLLQZEADD4%2FGDQAPH8WFVBAWYI
 DC67AQWCRIVT%2BZYN930NZO%2B3XC0FJR5OZYZHMSWZEKY2%2F58QRBCF3AHP7Z%2BFNTNZ4G
 0CKHWKKDSBVCIKT6CHQ91MUKEGNZ9D92W%2F0RR3US1AHPGUUZAIOP%2BYJ39QKI4RBQMXQBWO
 XS6DV5H0KDKBYZVUNKQUE8OZGZESJKA6GCRLM%2BPMDZEAGJQITBWNDWMTWHNMYIS0AQOM5IUA
 HNA9R7ODW93MUAQAQXC%2BYMXYHRB8BE%2F615D4T9FDRNLM6YK5CQZWIR7WRQD6VMZCW2HV8O
 DLRHYIXVGM5BM5OBAZGUMHG80DW3IT02LVQZLMSQQOPYTMKPAGLPIJNZKIMPWZDJMM3DUD2OKL
 MAGGAHUTAGQTYAPUAHZHONSYC3DL21VE8VYRFDSV1ZVCQEK6EC4CLGVEUXE%2BEA6QUQI6T3YO
 ZTODIKGDMP7K07CREZGEJGB7OHMMEXNO9GTABE3FULA1HSOIVQB9RMX69RTFWXCUIYZLRO5VBB
 Y6ZY%2BUNW2828ZJMANNPNPCABUGOT2GZCWPUWL1J9TVHXZERB3YHRPHWBIHWC%2FGRFVGYS6K
 EQEBGUPOZX7IY91ZNIMI0UEAHMCGB2GCT8WBVS0WBUXBLZVVC%2FD5H8BZDEYOOUBNVYGCT7HH
 CYKJQBKXMYZ4NOHCODQO1MNQDFYLHUNUYAZNJQB7EKLIC4AER%2BY2PIT19K1TNFB2SX2W4ME0
 CG%2FYGCKFF56CJ3KXUNETOJ4LVZLTKXBG3NOBIQPADO%2BBBQDZNCG7SYRLEJZ7I%2BOULIHG
 HFAIIXQA8GRYIFDV4J2YTPCNLBQZSSYLH8RZQ2UDYZJ15QDJRLDTEGD5WUZFFOWTBUVFSDTJDY
 QXDDEWFP99IFFXHQ%2BZQH7K8YAXDQQXCGKTKEKKRKAK7SJMX1NBNTPGVXFPMQHYNMYACY%2FS
 MINBSER865ZWZGFHW4U%2F8X%2FOTXJUJ97BSMTC7LCZSSJNEJFVXHSALYVN0MNDAQZ3QYXHC7
 US8F2DESZHKAV8AVTZEG2CDP2AJ40XN92C5NDKJNTVKRVC%2BUUGNHCCWRGW4VIDEYOEGADCY7
 6IZG%2FWNQN45WIZ3AYQ2627LQGFSZ7RIZS4CM0YIZLGLTYA0BWQMDGAQLBPCO%2F1BC4%2BUM
 IQUK2WBG1T6ZU45ANC1EYN6TEP%2B8X%2BNXHBCAMXZBC4ZXDLVXUMTUARNEZNLGZPTLM6DCSD
 BT65FCRKDAZB53FH41L19TOL6DL%2BJWAVVXCN%2FAN%2FP4T%2F%2BDKOWBVXXQY1OKSAJBKT
 7SUBMLDD9RIMRPUQIVX3OXMEDUMDEWKV1RIGCF9HR0JRPMK3MYMPZZQ2O0Y7HONIYWHHEXF62B
 CS4L5DILFCEEHMGMQNT%2FWTEE5WNMMQ2J0PLZ8XZGE%2F%2BVX%2FDJ9JWXCNQBQAJBICT5GK
 ZLZCZCQWJ11AEH4J06UVWU7KUQMACORGG68UEPQYAJHNBLGTGJLNOMYLJVGPGXH4VVDTATORAU
 ZWKGXEUJIPIZAKFAJBOG%2BN1WFJJOAXJZ1GRPQAD6DPLWQ7UY5RT92ICALIVG%2BYERLDSRRS
 NUJGCXTZPV%2F2B4YL15MBRUUTOM50UCFUN%2B5WAUTVXRP0CO1VDTCCK52YAASFCOADOQLSJQ
 RTO%2FFCI2KKSDOD2JHQ%2FL5DKF4XGWT3GZWME%2FTEHAZAXTW67NYHVKXEOJDBVLZO5KIAFT
 UE%2FGR%2FH2ACLJCZG20EA%2B0DHWDQYHXOTI0QW8SGGHHHJNEQ7SY0IBBIPIGIN6FWFQ0E7A
 4C11ZOHXNGBWKAQRRP7R%2FGIBZFMYLIFGYEK4EZD4JMFJ0FV%2BJVZC%2FDNDZSUKXLGKGIU%
 2BE%2BLXLBG9TVSR23FE6ZQENOW2FOMYNKAGEB7JAUA6MZG0RWW4OQGQT1RLPGGGELQ5MAEIDJ
 MOU%2FOHCRJXUMRBFGSSBC%2B91BNXNI5CQHXGE8LVQ0UQBVRHMFYYKZIOEXBUDWZRN1JSIQ6P
 4ZGR10CHISGXUWVICQ4YNTUJBY7C4W32M4TWBFNU4T66E8VNOBCBMSLEULGEFDPCCGWV0IAKZX
 GWCLH7S28RIBHYSFI1ZYKIAW1TYEDYBQEQHKH%2BZOJW2I4RG3JQWEDEB3ZWBNUIEVHV4IZ5CM
 ZGRB2CQYDI2INWZ%2B9T8BA91ZLJ%2FFKTTASFOFWXW0N9RVANOZKBBWDPTOIN9BQOTTGWBKJB
 BGUDU6VYTTUZRJBL4TMUBTSQD7PSIIMR4UANYQKYNRHCNACR3T12EQAIZAYAAW3BSNO2RPOLXO
 JQIIYIZAAYKQA7ZPGQDB6XWK7C2KJN20XLKIKMRFVKZKEE5YZXHLYIA1HELLESVITU2MZZACDO
 5SEO11OORG1PZGD%2FOTYVRFXNV3ZMTTWDQSGCDIM%2BIFZN7XBGXD8OV2LDWSI2SVJBOT3YKE
 ZGUGG7DKBZ0JLM1DS33BGQXUPIQW1ADDNQSXJZV0J5NLVVJ8VAZCUYXCYGYI6ERPQFIHL8P5TT
 X1MOAWDVQN75%2FGTDWJHWXQIUPLIS5OU8AG2UZT7BHVZB0B%2B%2FIYNJL9%2F%2FPWTP2TS3
 WCQIAKQXA7N7SPEDMTLOY65VEENTACA6UVPK97P9NXXVT7BG2JRBYSRUCJAAQLGAWMPECLBQCA
 NI%2BD%2BIW7S5YUN0U4UNLCQQMYNTNJUYIIPF5MUGJHLWWSLI8QUY8FDM48AAE2SRHHAGM0AE
 DDJEZRYRF28PDZBBSLNULQWHJBCYZJMZ12AB9KIDBVFS%2B7P4KYPAIWWTWG6XL93AUMQGCROO
 8RHU2IIAI4LJO%2BZXIYNSDST0PT3IH%2BIXMCL7ZMTNHSPILSRIBYZDINWTJGAJNQ%2FCMQH7
 U4HBLSQU3CBSXVSDYAPQOIQ7%2FSH%2FWBQP%2BGV%2FTRYTB9G8VKF517U4FK13D%2F93%2FA
 TBWV1I9F%2FANGPUQWQQWHA%2FWDRTEH%2FXCS%2FWF21934V5SRO%2FSJ9RDIX61V4FXRI8W%
 2FWN6LSPU%2BCU9ZY%2BTDU7B%2F1S3%2F%2BT%2FE1E0QFX0L9CEA%2FRRX8J%2B41SU0V9TB
 %2BC7%2FLNSPVNFST6YLGH9XUETV%2FADUONEFRF%2FGB7JXTKILFJC5FWJ8KMWP63DF95F8A8
 MAVKPOCEKEY1ZZTD%2FVML%2FWRN%2BGLSQUFPPZ9RHG2X%2FJP3TUPA3%2BSYN%2FHW%2F8AL
 ELSQP9S59UIFO5%2F%2BJR%2FAAP9XQ%2BXX%2B5%2FU%2F4TXTKUFV7A8QDF1MI9F%2FW1IRN
 T2F8AHN72PUQFXFA%2B3MCFT%2BFSRXREWF8AV738DR%2FLELSRO7%2FFJPTQEGFRH9E%2B5QE
 W36ZIH%2FBT%2FWCA9E0QX%2BP8L9FQXSL%2FAFHD%2BN%2FQRM8M%2FQYF97H%2FAJMVAVBSV
 07FSPUQSH%2F%2F2Q%3D%3D%22+ALT%3D%22PERCHE+%C3%A0+SELFIE+D%27INSTALLATION+
 MOTO+...%22+STYLE%3D%22MAX-WIDTH%3A+100%25%3B+HEIGHT%3A+AUTO%3B+COLOR%3A+R
 GB%2834%2C+34%2C+34%29%3B%22%3E%3CSPAN+STYLE%3D%22COLOR%3A+RGB%2834%2C+34%
 2C+34%29%3B%22%3E%26NBSP%3B+%26NBSP%3B%26NBSP%3B%3C%2FSPAN%3E%3CBR%3E%3C%2
 FP%3E%3CP%3E%3CSPAN+STYLE%3D%22COLOR%3A+RGB%2834%2C+34%2C+34%29%3B%22%3E%3
 CBR%3E%3C%2FSPAN%3E%3C%2FP%3E%3CP%3E%3CSPAN+STYLE%3D%22COLOR%3A+RGB%2834%2
 C+34%2C+34%29%3B%22%3ELE+CLASSEMENT+INTERM%C3%A9DIAIRE%26NBSP%3B+DE+L%27%C
 3%A9TAPE+%231%2F4+DU+%3CA+HREF%3D%22HTTPS%3A%2F%2FENSIMAG-ALUMNI.COM%2FPAG
 ES%2FSALON-PAGE-CONCOURS-PHOTOS-DE-PROFIL-ETE-2025%22+TARGET%3D%22-BLANK%2
 2%3ECONCOURS+PHOTO+%C3%A9T%C3%A9+2025%3C%2FA%3E+SERA+ANNONC%C3%A9+ICI.+PR%
 C3%A9PAREZ-VOUS+%21%3CBR%3E%3C%2FSPAN%3E%3CBR%3E%3C%2FP%3E":Détails parti
 cipants: https://ensimag-alumni.com/events/concours-photo-d-ete-ensimag-al
 umni-classement-etape-1\n\n\n_*Mise à jour 15 juillet:*_\nLe premier clas
 sement intermédiaire est publié !\n\n\n\nArrêté au 15 juillet\, tu peu
 x aller le voir dans cette page par catégorie ( https://ensimag-alumni.co
 m/pages/salon-page-concours-photos-de-profil-ete-2025#classement1 )\, et c
 liquer et liker celles que tu aimes !\n\n_*Mise à jour 25 juin:*_\n\nImag
 e (extirpée): DJI Neo: the latest rumors and ...  Image (extirpée): Perc
 he monopod Selfie pour Vidéos ...  Image (extirpée): perche à selfie d'
 installation moto ...\n\n\n\nLe classement intermédiaire  de l'étape #1/
 4 du concours photo été 2025 ( https://ensimag-alumni.com/pages/salon-pa
 ge-concours-photos-de-profil-ete-2025 ) sera annoncé ici. Préparez-vous 
 !\n
END:VEVENT
END:VCALENDAR
