BEGIN:VCALENDAR
VERSION:2.0
PRODID:icalendar-ruby
CALSCALE:GREGORIAN
METHOD:PUBLISH
BEGIN:VEVENT
DTSTAMP:20260423T232452Z
UID:1d87685c-eff8-4c42-bb9e-3ade4561dfd8
DTSTART:20250815T000000
DTEND:20250815T235900
CLASS:PUBLIC
DESCRIPTION:Détails participants: https://ensimag-alumni.com/events/concou
 rs-photo-d-ete-ensimag-alumni-classement-etape-2\n\n\n_*Mise à jour 23 ao
 ût:*_\nLe second classement intermédiaire mensuel est publié !\n\n\n\nA
 rrêté au 23 août\, tu peux aller le voir dans cette page par catégorie
  ( https://ensimag-alumni.com/pages/salon-page-concours-photos-de-profil-e
 te-2025#classement2 )\, et cliquer et liker celles que tu aimes !\n\n_*Mis
 e à jour 25 juin:*_\n\n\nImage (extirpée): DJI Neo: the latest rumors an
 d ...  Image (extirpée): Perche monopod Selfie pour Vidéos ...  Image (e
 xtirpée): perche à selfie d'installation moto ...\n\n\n\nLe classement i
 ntermédiaire  de l'étape #2/4 du concours photo été 2025 ( https://ens
 imag-alumni.com/pages/salon-page-concours-photos-de-profil-ete-2025 ) sera
  annoncé ici. Préparez-vous !\n
LOCATION:En ligne
SUMMARY:☀️📷Concours photo d'été Ensimag Alumni - Classement Etape 
 2
ATTACH;FMTTYPE=text/html:https://ensimag-alumni.com/events/concours-photo-d
 -ete-ensimag-alumni-classement-etape-2
DESCRIPTION;ALTREP="DATA:TEXT/HTML;CHARSET=UTF-8;CLIQUER+POUR+LES%3CA+HREF%
 3D%22HTTPS%3A%2F%2FENSIMAG-ALUMNI.COM%2FEVENTS%2FCONCOURS-PHOTO-D-ETE-ENSI
 MAG-ALUMNI-CLASSEMENT-ETAPE-2%22%3ED%C3%A9TAILS+PARTICIPANTS%3C%2FA%3E%3CP
 +STYLE%3D%22COLOR%3A+RGB%2851%2C+51%2C+51%29%3B%22%3E%3CI%3E%3CB%3EMISE+%C
 3%A0+JOUR+23+AO%C3%BBT%3A%3CBR%3E%3C%2FB%3E%3C%2FI%3E%3CBR%3E%3C%2FP%3E%3C
 H2+STYLE%3D%22FONT-FAMILY%3A+%26QUOT%3BHELVETICA+NEUE%26QUOT%3B%2C+HELVETI
 CA%2C+ARIAL%2C+SANS-SERIF%3B+LINE-HEIGHT%3A+28PX%3B+COLOR%3A+RGB%2834%2C+3
 4%2C+34%29%3B+MARGIN%3A+10PX+0PX+15PX%3B+FONT-SIZE%3A+22PX%3B%22%3ELE+SECO
 ND+CLASSEMENT+INTERM%C3%A9DIAIRE+MENSUEL+EST+PUBLI%C3%A9+%21%3C%2FH2%3E%3C
 P+STYLE%3D%22COLOR%3A+RGB%2834%2C+34%2C+34%29%3B%22%3E%3C%2FP%3E%3CP+STYLE
 %3D%22COLOR%3A+RGB%2834%2C+34%2C+34%29%3B%22%3E%3CBR%3E%3C%2FP%3E%3CH4+STY
 LE%3D%22FONT-FAMILY%3A+%26QUOT%3BHELVETICA+NEUE%26QUOT%3B%2C+HELVETICA%2C+
 ARIAL%2C+SANS-SERIF%3B+FONT-WEIGHT%3A+BOLD%3B+LINE-HEIGHT%3A+22PX%3B+COLOR
 %3A+RGB%2834%2C+34%2C+34%29%3B+FONT-SIZE%3A+14PX%3B%22%3EARR%C3%AAT%C3%A9+
 AU+23+AO%C3%BBT%2C+TU+PEUX+ALLER+LE+VOIR%26NBSP%3B%3CA+HREF%3D%22HTTPS%3A%
 2F%2FENSIMAG-ALUMNI.COM%2FPAGES%2FSALON-PAGE-CONCOURS-PHOTOS-DE-PROFIL-ETE
 -2025%23CLASSEMENT2%22+TARGET%3D%22-BLANK%22%3EDANS+CETTE+PAGE+PAR+CAT%C3%
 A9GORIE%3C%2FA%3E%2C+ET+CLIQUER+ET+LIKER+CELLES+QUE+TU+AIMES+%21%3CBR%3E%3
 C%2FH4%3E%3CP+STYLE%3D%22COLOR%3A+RGB%2851%2C+51%2C+51%29%3B%22%3E%26NBSP%
 3B%3CBR%3E%3CBR%3E%3CI%3E%3CB%3EMISE+%C3%A0+JOUR+25+JUIN%3A%3CBR%3E%3C%2FB
 %3E%3C%2FI%3E%3C%2FP%3E%3CHR+STYLE%3D%22COLOR%3A+RGB%2851%2C+51%2C+51%29%3
 B%22%3E%3CBR%3E%3CP%3E%3CIMG+SRC%3D%22HTTPS%3A%2F%2FENCRYPTED-TBN0.GSTATIC
 .COM%2FIMAGES%3FQ%3DTBN%3AAND9GCRTOFZBEZOGU07EBUWWH0H9E--OFN16E3XPTG%26AMP
 %3BS%22+ALT%3D%22DJI+NEO%3A+THE+LATEST+RUMORS+AND+...%22+STYLE%3D%22MAX-WI
 DTH%3A+100%25%3B+HEIGHT%3A+AUTO%3B+COLOR%3A+RGB%2834%2C+34%2C+34%29%3B%22%
 3E%3CSPAN+STYLE%3D%22COLOR%3A+RGB%2834%2C+34%2C+34%29%3B%22%3E%26NBSP%3B%2
 6NBSP%3B%3C%2FSPAN%3E%3CIMG+SRC%3D%22HTTPS%3A%2F%2FENCRYPTED-TBN0.GSTATIC.
 COM%2FIMAGES%3FQ%3DTBN%3AAND9GCSHAWE1QF3DPU6-WOIFY4DEHX9B-E8K2DIMZW%26AMP%
 3BS%22+ALT%3D%22PERCHE+MONOPOD+SELFIE+POUR+VID%C3%A9OS+...%22+STYLE%3D%22M
 AX-WIDTH%3A+100%25%3B+HEIGHT%3A+366.449PX%3B+COLOR%3A+RGB%2834%2C+34%2C+34
 %29%3B+WIDTH%3A+283.099PX%3B%22%3E%3CSPAN+STYLE%3D%22COLOR%3A+RGB%2834%2C+
 34%2C+34%29%3B%22%3E%26NBSP%3B%26NBSP%3B%3C%2FSPAN%3E%3CIMG+SRC%3D%22DATA%
 3AIMAGE%2FJPEG%3BBASE64%2C%2F9J%2F4AAQSKZJRGABAQAAAQABAAD%2F2WCEAAKGBXMSEH
 USEHMVFRUVGBCXGRYVFRUVGBOYGBCBFXCDFXYYHSGGGB4LGXGAITEIJIKRLI4UGB8ZODUTNYGT
 LISBCGOKDG0OGHAQGI0DHX0TLS0TLS0TLS0TLS0TLS0TLS0TLS0TLS0TKY0TLS0TLS0RLS0TLS
 0RLS0TLY0TLS0TLF%2FAABEIAOEA4QMBIGACEQEDEQH%2FXAACAAABBQEBAQAAAAAAAAAAAAAE
 AAIDBQYHAQJ%2FXABMEAACAQIEAWUEBGYHBQCFAAABAHEAAWQSITEFQVEGEYJHCTKBKAEUI1KX
 WFAHM0JICTEWNFOCSRPHFUNZKPMKDKK0WTLXNVSDW9P%2FXAAZAQADAQEBAAAAAAAAAAAAAAAA
 AQIDBAX%2FXAAJEQEBAQEAAGICAGMBAAAAAAAAARECEIEDMTJBE1EEINFS%2F9OADAMBAAIRAX
 EAPWCTC04JU4SNI3XA8%2FA4T173DEI3THBPAEBU6R0W6LFQNC1S0YDFUNC1RGTU4WQNPAXC15
 3NWHDUU5PAEK%2FU6ABDWJS03UANGK82Q87MRE2A87INOXXGZXNC1Y9XXNCUAMV3C153VWJS00
 2ANGISDW%2FNLMQFE6MYECWZVJRQFLREUBWU1IMC5KS%2BGWSQONSD3DVBRA8SQVHXLCISBRLD
 UYTB2REGU3YCFFD52YGD4FWWUKCOY08Q53XXIOK4REGFWPFMZ4GOYKBGOM5GNTPY2NQAW762T%
 2BOFQ3TFXNBSVW4VEGYCWYK95CQCARQS5ZPXUEISJRB2%2B0LMZ%2FU2BJLGWCWU7UOVUAQ66L
 IGQTMG%2BX1ONTP2EW%2BDITI5CXGJX21LBLYGBEEZS0WCOBBENAYMGVSGOYFQDB8YGONR7DDV
 YB12ZRHNUEWNZZSA3CMLIK42YA%2FGP%2B7OQ2YXALLR2HAZFQIALXDV0A5SAI1THAQ0GDIPEW
 O6UAMV9PJOPBFGPHH0QZRDTAAV%2BJ%2BVKRHNSPAALW3UGTUSTQPVS1RRHAI2QELVFRZQRBNT
 5KWELVPFMJRZPWS0VIYBFQND1ROS04WAXKEAXAR02ANFQND1S8JXX9ZS7MRHUAXC0EQ8VB3NE9
 ZVH3FE9ZR5DFB3NEDZVOMOELI4EJYHIQU4RW2KTHHPP%2F0I0EQXRDPZCXP0HCQ%2FDHZ3BHEV
 BGABHK3ZLTYM7RXPLZ3B%2BOK2A1NK2S2LRZCQAQAHSCPDQTOUTDXXNDE8XISY7WVMESIMEEVD
 4VD27F2ZDSXBVZ4RMRVT2H9TMCXGIYIB9KTPPPQYBA6PI2%2BOXXAXGGKJ2IPJO85UOO%2FM61
 IRIU9ZUSZFYJ942HQNFLXUU014QL4BTPMGNOYBIEJLIG6666WA5XYXZN0KAANF0EH76W5TX0DO
 IDNVVSPACGQIKH5EMQGEEDY8%2FFVHJLI2VDXGCGKKO3ZMOYOO1ZJ0GTCSBIR2SUPTXDBXWLCI
 YQCM0TMIBMAHECRRGTBLIVAJDKVUWFD3NCZBI3LTTBISD7AVA5ZQADLEEHWTOVM6MSC7A5R8U2
 %2B2WWUFF1XR1DGGJLOVLDDWKOHIPOCPILSORRITCUXOGVTLV3M9T2U5NZLYQXU5LYKEGNJXRO
 WHGQLZDENUS1PZUXQLRTHIXOWY315%2FRERMDP8FYE%2FCUI2ZUNMIZEAGNYAG6NUZZJRM%2BP
 V5J8VU79Z9NUFJ2ENSEZMMGLWYYHBGBRL%2BY40ZFJQPIG1BRGD82KVK%2FWBEKW1UYCGGO3EL
 J55QCPGAFCA6OQQENSURY1Z9CZCZ%2FU06%2FKLV99BT%2FZHWPU9LGWWZUQ2ALW1UGTVPEMFI
 EWZTXZOXBNOFQP8JWILVE91RFD04WQWNGPUQQT0Z3VEI1S08CI3XOT0V3DOFUJTWKLNOFIIRBP
 4SJQE7IPUW4QUPUIPS0GGZPUFC0VSAOMN3FOFGMI1FSRROXFH8IAJI1R3EYIMCDQDEJKYIYFMU
 WIWKIVA8QBPTKH6UBD7OUHTJCUC1BDEQJMTPJY5Z6GEW9YHG1PLU3LIMO1GLSJGYXEJWNQ%2BL
 RIZHDAJODQZVADHDHML3RHDKXVLBWLMPCUOAPUDCFJQDORODNOSNMA8%2FJDCG%2FR3WNCBILR
 3VDOIIVOOZXSQPGQVHQWEVWXAL9G9%2BY4FBJVBFIBJMHEJEG7WGWQIMZ1611DSL2VXAOWZK7P
 LO62XBZMFJ2ASF06C5POIO0EI7MWXMGKWP73IP4V5%2FP%2BV338%2F%2BL%2F1XMUWWBSYWYB
 CA3IZUHMINKOIC0D3STFV9VNDUARURPY%2BVMX9XMAZJXF76VUZEE7MMVE1TW8ZNPQAQLJAG%2
 BG2RST262%2FHLY9ORHWTMZLOS7MDQRYYAZ7PCDZGIUGDNMCMJW9VELEODI3YSCVDFCWIR5647
 2JFF4H8TC8I2ROSOVSJ5NUKNQWOLBL9DXAFLDBBOFBEJE3PK6B4H6MQ%2FFF3Q3NORYDE7RSMC
 UQBFKKGATMPFTVMFQVUP6WIBZP3C1PSPGH7MVTAOGCPATB4DFMNFR6MAPWFAWGMNXNC0DLRXRD
 AWGLNLU6IZA8C0AMQ93XUSVMZIETI1Y4CQICSDTOOGGPPQDU1NUB9USHI7OSWWUD40WGS3FBGF
 J4OGAA7XQMAPLSY1LFOVACRAVIOQCWAQT0GYONK6LTLTYKDXXMTYN%2BLIXWPS4FDSDBTOTEBU
 EIBLI%2BANUZLGWDP2LJQGTF2PXJT4A6UHJKKLAZEN%2BHDUKDXWUM9MRD3C4O46%2FYXAS0LJ
 SE6UAHKZN2EHVLN4NNU98%2BXPX%2FBHBXP1ZPLHVOLCV7C8C7XXBSCQAESVNMX%2BKJIYZROW
 MM5GVGS%2BBVO2W8ACWI11Y6NANYFHXQO1TSQ5M77J2PPKPZPXH8P%2BN18U2%2FBO4S1DWYX3
 ZGQTQNIK1C9SB3C2RGV8L3QWUEHVUIHVI5ZHONQ1C4MJGKCR9BEI9LDF9WBOKX3EBBVEA7DILE
 YW5E77Q0VCNR9JRRWDXUHA22RHBHZ86L7O3ZBXFT19PHVH6QZHZFAVJVCO%2FS5LHJQSPMCXWP
 4Q4W6CER2RP%2BL5J3NZDTH0R%2FTFCFVF8RFYPVYB%2FBSDPNXLBZGEO%2BBACBTSTOARIGHA
 9Y04CPATI8RQTPC1IFPWWG8RHA9IPQLIRTCKKUU%2BKVARLABKQWKUUE5F%2BMLN7UZBUEHHCM
 CT4LA1GG6SDFM1ZZ9GNWPXXCA%2B0BI%2F81LWPMFLXAE3%2FZ%2FE4U2GWJ20ULNUM4WHGFKT
 LKQFFKAE861YJ9DNB1UCRDOXR8MGCW2TNNZ2RZNWLZRMXESZINDDP9O9HKLTRSFOFJKWVKBNOA
 60KR1UDROOJA4C32UTQEUDMZTE9BPQAUBLXVBYNQCTWL7U37EMUWMO%2BRKDM41KSAXUW3VWI3
 GOYBFHQ4VB9MGVXSLBUYGS126XUMFJ2ZRYAOGGTJANQDKWEJ%2FSBJUDZAS2VTBIOF1BJNAYIW
 Y3BRPRA016TXQUFUES2W2BKIIS3TDKAQLUE4KK9ERFZDJPYS6927DWB22DM10YA7MVW5L2W23S
 SM2OBIHKEPM02T7G4LR%2FABXKVTQULNXBTU2PFKHRTMPAXOGAG368JW37LYG%2F7NW6WYQTMK
 GLMJBA7CGCJZIWE689FKS9%2BHVGXF3RUIPHW3BKK2XD3ZULSEYTHH5ZHXUBFZIZATJASRAFUM
 PBNUAGVPTAJC1HZTQ83W%2BX5SFBOYVCW8OHJ9%2BSKT6NC1LHSTCL3G0A2HJQNFJWJ7WM4ZBD
 XCPGY49K7AEESBCQGUYELHKUSIUMWZ%2BQTOMXP4E%2BVJ53N8VUTD36VMBAAA21YJTTW%2FUL
 XDRCXJZFKZB%2BYNBNL5UTKIA2IRZJL7ZV6MH%2B1PD%2B%2FSVL1NRVSOEUQQPWCZRQ%2BHVW
 7%2F6MUCZZ1NKLPKFHSR0TS%2BVWLOYU6KCFRMJAKCBTWLOCUA0LTHTWKROCOLFPPUWZFLLT6V
 IGZAWWNMO3UUB7FCK%2FSRH24DJBXEMIO7NXBNEQBKZPLOY%2B3LDNII8WQKAQTXVHVEDVPAPA
 LI8O9HIBOQTE5HGQNHODUOYJGXPLQFS5XLMXH0VPGUJKNCRJ2H6BEHMRKEDWDCR7ACZFH%2BLF
 CXPRHOQQSSEYNLGP5IZZZ523RPHRXXXXHHP5CJBBIYMVZQMXHGBBUSXWB5GQ%2FF9PIVHINTJE
 SSGE8IDGQPOLFQNV6AHHRNTH5HZ%2BXOUDDSRT3CYV6CIMC1XLLGNKA0BNPBYVPJMGW4TOSGTP
 E6PTX2VXNTPO6S3EXBCYNHIRIVBZQKAKMEUZZNTB2SZISWPO10G8CPYKATKKAZISBPQC%2B8XQ
 ACORC4FTRH75DVFA3DOHZHLVTCDMGMVPCZSES0C3FR%2BLJSYK49QYJF%2FFMSC%2BYEXYFWGQ
 U5NQ66XAZAYFSNHRDPHV3HNXSS%2BUGKTPCIRIJRZ1J5AXJYQEVEVUTQMOJXTY1KNNNEYQ62RB
 8NXDNAWBYWQ2WQ6S7HMZNEFMIIJJ02ECNNK8FTSXED4JHPLLN4DB51NBSODF%2BCFGVBHX1K8T
 PWHUQ%2FTHFSNEZFCW7QQYC2VWYGAWDNRRHLRVZ2QT3LX%2FAGYZSOG%2FGCRRQBI59KKRWQZ4
 LJMZXLPAY61SUP8AEMACBFVWBV9FDFHBUZ4LMJBQ%2FGUH%2FJ5%2F2NXM1PZWEWSG0UK94WYP
 5EJXN%2FDG37XHSJMHHNP3E9BMBABOKAAFGHOK9RMDZZSHN9TGLYBUDKO8MAJMCUSMQPA9RB2I
 VI2OFLWVOYEL5AZQXIMIB5VHPI%2BTR3MLTKMTD%2FSFP7AFC5%2F7KVV31V8AA3F%2BO1KTP4
 %2B%2F%2FTH%2BFL9ARXORWGKQA7VN5HXMEOXJPOEGTTM5XGUUM1YOU%2FNPCTHZ6Y93ZOUXTU
 B3IOK0V9IPPXFASAU6U06NN%2BMG5QJVGDNFFUYX6IFLF4X796R7OU9CE0JDXCQTJOBFCSXWBP
 QJRVBIRZE6KGEUP%2FLROXN%2FANJVDVUEYM17YIDSDQFZRMHQG923UMHOIUZ2Y7TVFSAENMGA
 M%2B0RSC3PMIKNZUNYIIMTCQOWZCWYEEH2SDOQFTEDC8718JJMIBNZNOJYHSEHJVRM2GA3O2LJ
 C9ZHTV4GROQZNZLR09AAXJ3RHS3ZS%2FWUWBUYHABDITKZ6%2B22HHRIGSDDBETYKFE9ZUBRKR
 KDIIJNCDALBLPJGGD9CDA3QK4YUUH8RICGUI2OLM4ICOSZIEZO0QQIJIZILJ%2B6O%2FTL2E%2
 BJXCHUPDNX1M%2BYUWYLQXLNXKRI8M7DQHNPOF8HW1OPCWR73PENA4QS5ZTWBPPITQ%2BA7T3S
 MTLZGYOFUKVJ19P4OKYDUDRBJ3P6Y2XCB2WW9YSPKYYZHVOMZRZ1BEAZTT30EXN2PULYWXFKHH
 OY5HQCCS%2BHUE1Z6%2FGARG4AZB9ZGJYJQ9PQCEPRA8NX%2BFVX%2FO1%2B7ZE5IXXLSTHQKQ
 0CDN6YVEOHLDVMUEX6SH9VWHBJJM52GMK6KCPQLZIBB1Q9RGSNS0XHTE85IR0MR7J0QZ4XJQGE
 QLZYTLLEMBMIV3U8OFWODS4FCAMGFY%2BB%2BUIGLZ%2BRB2HNUY5BDY%2FXTL8WSX9BBYWGY%
 2BO2TPMRJQI%2FPQXP34%2BS2M0E0OGS3UE6JMQNNKUELINGCWCWDEZY5A1MUO8ZBG37L9WFLK
 EEA5QQHVE6TOBRVZ2H4V3VX8ND1ICRJSVPSSOH5HZBGTYZE2MRIP3HPKR1RXJIY%2BPRFV7E3E
 IN4C9KU22GHDCCOROK%2B6ZQK4PGUJL9PZINZKCKK4TGZCUGCL8R923ZJ51DADWTM61%2F9ILN
 9NA%2F6VKHPONN8HSRPYJZ%2FKPPYGVTCGVEBKCGCRFK1BUTWU%2BIOW5FIHBL3ZQM3TTXF6FG
 6AZ3NNQXUV53LBC1EMO9BVILG7AE8UO%2FEV2N4CLP4SWUUPEUQPBEKP8TXNGTB09B%2FRNBXC
 CZBZRP%2BK3V8REDXXMBTRVVDVT9%2FQFFQBXWDSFD%2BFZNEQRHMFGVUMN%2BNY86SHBX4WZ1
 260E9%2BWGXJ5HQA6ANPT8A9A%2FAJKEEX56TZ2%2FOTV7XNYAPLQFZV76CGH4T88ALOGAARRM
 RGOBJBYRODPMDCVWRHQGUVVEAPEO1DAYMDANQRG290BXHGUKSWEA6IDJNL0HMALXGETVYBDTDB
 MCALKIMHIJBHNZ1AA6ILBIUY5PHEMK%2BGNQ4FFADI14SXPEKZ0RTGJUSDWHAJBGXPE8QV0VL6
 BIVKSPHIGAPESOEYUST9ONO60J2LS6MIBEYFFQ6QW1UHSZHRVLAAZDRREKHWDVREYEFSX7C3%2
 FO63LIFG7KCILTNLJJAQSJYMJCUL4PWNJATI%2F%2BSYM7UHAKLNJUCTRLZ1HLOLT4HHQL1S4Q
 ME5FWKKAQQCTROTLALVCTIASCQ9U9BGMZWDLKVBHG5HBMJEZHMLXMGSWFEDIQYM47I88CGPHZM
 5LMYRMKYIX7NTPZVA%2F0VWL66WAYMDZIUIII%2BILRQBQY0E7AEQQCM5XDI4N02SI27SMSABQ
 WO7N1NALBCVS2MIHEGGQLZW%2BIABG3DUBEVRP7JOXACSAHYJB4BHF11S4HSVL5SASP7RCAF7W
 8TXRZAFHUL9SDX%2FHJKZRN52MTVR2M4HIMJCY3L3VIRKCYSFJVW9%2B29UFC74UKGRC03IOAE
 WNG095GDAMRT11F92UXS%2FRSHDCKPD29PZKAPG3Q6%2F36W3ECULPGUHSRMBZ8%2BVXRY8C4B
 EXPTIILLDPCQJGZTYZETOJOUDP4D6FHOW624NYSTTNHH%2BAQ5KC3JPLYYRBL5FZIE6GOZ0I89
 V%2FAA1S8IQWUYP6K82PU0TXJGHD7DNOTTV8DX2Y5VEZUAGMVIFTT2D6TSN2SW1WBVXSNQAD22
 NKAQFVOVTN83PXXQM53J%2FZPWNE12N6PY%2FSFLSQCJH%2BBZVDJ3OLV2LXQLUZ8L1NVWIXJN
 VP3D4UGWFA62XYXENGYS3R%2B8Z%2BQ2PG4LDO8L6AT86C70DFX0QNSTRSPFN9MP2MON7OOA74
 OJY%2B8KX7ZQZV%2BS9BQA9FWZZZA%2BQOK%2BO393SLZVJSGANT3ZZQB7W%2FKTPJ8UCUNDXM
 SBKCO%2BGLRPJOXXTXMOVW6MKEAZDXZI5DDB7O2OC3YDVZPY%2FPWOL2IB0OKICENOKCL6YNTN
 GYMCP%2FAJ89DQHTYQNDAZ0MECBDN5VFR6TTIN7VL7ZUY4QYLDTMSAFCT6KHFYDBUYUAC5BSEC
 QOVMZRPZO0GTRSTGKQJON37N4U3UWURES3SG8UU6CJ%2B6KMBFLHLTJXNPOAJJ%2FAB1FJME%2
 F0FYWBVAWITMEMQNROG35E1TSTOTVXIWE3CDMSOOJN57J93P0AEVW3ZNEHRPZPZTLZRZMYMFF%
 2BZMRLHODF226VCZMURAYGEUFGWQFPQ66GXGMSNFMNBW31KLIXYXD7I8RGIAHWEKOFTPPN9RV3
 ATAJEYE5BCGESWQAMCHTOFX01BJA%2B2OTQ9HOANGBF29ECF7MXLZGQFQTQSDDY0MAQPA2QW4Q
 FFMBHETYKUJM7BJOXJOSD6R%2FAKYXQAGB%2BHKON%2BTENORVTXLIAFQUTI3ACWDTJ%2FB2NU
 %2BEUTXPCXFVDORMBDUJVSMYZOI8MDEMOHZRE4HU7V4AZEZI18JLUALBGAY1KMNFAKZ1GVV7NE
 7FXHLDIG3ADIJRJWQRQYKESNJQSXNRZJ%2BGDWLT7EGAXS2HE9RMSOYKC6ZXA6W%2BHVD%2BCS
 JKCWRRIBEK666KEMPUMIUERRED4Q%2BJZXCZCKADJ2%2B7XOATCENF4YQDSHNQCP0MEHG%2BMA
 LRZF7C67R9ULJD6QWE%2BW7C2MTWSDAVDXACNKSXAOEQRONQBS7GY2ZCS3LLYZCS2GYI8YKRAY
 RCDIYLTMXCUXYGDVV46WBF0Q4ICRZBHWCNRWG4T2HUWYQTNUWBMHSATBKQIEPMAK7TS8TA3IZ6
 WY4GUZWFCAAKMVQSSDXMRMWCEWO3NLQ2O40ROAFVQP0CAAZURZLDAJ3%2BTLF8OTXCWTGWBQEQ
 9KN6SONIBJ6RUGIGU6KKSC1ZZGCNV2ZJRWJY5IUK6BKSI1323ANT4O1JXI33HW60SXBKPIE6%2
 BSYPDUVGBADXDINOQIWW021VZIGEGA6TO80DFFWAZLIDXLPRQPTTWL7B8%2BOK%2BN%2BZ%2BJ
 R2RF8A2ONSVAD2L65DPPSETCXL3SI%2BIXAXZKF88SJU7MJ%2FMGQJPBINOY6%2B%2BUMRXUQ%
 2BJGC%2F504KWSOGPPWTG%2FQKBEOW0T8TVLFOWELF2IZDWNDDTRB6SJ%2BNFGGNHN3M%2B8ZG
 QD5JKKMNGLHBIQQPA3MEMGJSDQARPL5UNHSKUCNMFJPGYZOYZEEDYU79NJPVJH8U93OFJWCW8B
 YXLZTA56A6ELTVSKPBACWNUKCIIQC5PQYGC%2F61ABZJ2TRPJ0NXMEY5AFGAKXLY4SSCU8TECF
 VGLVT7IJANXKDYGGGNU5Z1O0SELZASZGBPQB010HLXQRTTUG5BT6%2BRNUVXNJMIJ2MJA6AHUH
 QAFHQCHE9ABNI0EKX7WBWGFUFOPKKWLV26CZNXZ%2B8%2FCORHYNKJ5HW0NCBX1KCTLKX6JTN%
 2BZO84EKJXDJAEBVRCQ0EGD3ERGDDHONXMPBXASO9BOOABWROIYNDHONUNHWBTTLJLDOL%2FLI
 MWCJGNSIYL66LTVQMZZEBQ5BBZMXIQLJB9GHGXWQNRL36VW4ZTGXUIBSAGQQPNAAJNVPLEJESR
 OO1PEFQPCBNBQT3WTZWMBDXEMAIGMUQ6N%2B8AXGCOHSJVCCHGXB8REZVMDXOMX2LVMDL9WBFZ
 AJ8ZQ0YZJ1G2G0OZEN3DE3RUKLVG0TOH5%2BGDJJCGDKP46RYDBUXMIVXPHMYDZEYJ6KJR0FA4
 %2B5BRLTLCMKBJYHTADJXLVPYGBZNEPX4ANWUBPDWWYIIKT4IDN51NWI8HJHEXFRMB3GUWXBZS
 0AT4SYMYPHK8TZ5RFTNE1O%2B1GAE3JCLEVXMU4VK5W2MOTIQPSYIBRQRDDJADCRGANABAWSPE
 VLP1DO28MKHDCKMVID%2B9CE5P8NSDO8MBXFXIBG%2BQW2FE8CDMEYWKQJ%2FAZUP94QTS5YY2
 KROLXL%2BIDXSSZZP77NUDX0S0WDPG2SWGYAGUKLIINZONY94FVXY3TEL%2FEPZNT7TKJKVELZ
 YNTSQTBHNVSECFU6CJ9LMAKIJ%2B1GNXKDDXNU0STGEIW8VMQWPEZTM0JI5MBYDMHNRU8%2BXI
 1XAFGTXDCWPHAIAMIXU6QQNYCSHTL6VJ%2BG3O7VWXCHHV0JNOGGB5V1HJUBUXKT37OXMOYSXI
 BY%2B0JKF%2BB5VLO2HCKUF9OSIBZYQ2WYDDCBOGN7JODJSSB%2FH1SW7TFWI59NUXPDEUF3F1
 VGILC8GDZIKNNAJHORMXXR8KQUP73NLRVAHIZIIDZ4FZNABJEBRVZLIWGES3LM5FW20QBEAGNX
 TQNQFAUCTGCGXKXBWZW4HWBXD2FZGHAAMMXGSB0PAMYMHX7HQIBQKUZY%2BQXC5TCUNSY91BCI
 4QZMLN3XLCKITZAEKI9AAPSTVI8FNTAE6SUYT9LMJX10GT5GSVG7IS%2BFC7PVSPFR%2B2V3HB
 %2FWDZLV7CV5WX%2FPQN9OPN%2FKLTZ%2BNAX7GIK%2B11GNXOA7DUQBMEAFF0RY7QQQSDBJP5
 2RQCX1LVAK6X95J7QDAGNLYKNAKBAEZT%2FTX41PYWZVH8C24J5AHBTX4URAWIDS0IXMQTOZPI
 JXCDXXYVFQPEEPWRFI5DGFJ0GPIAJEHUGEMTMSYPRLEBS5ZIGTBANNOEROYKB%2FOPB1P1XRHB
 JASJBZDCZUFFVLIFYRMM5VIEKK%2BIKNUZ6HPSUVJCZSYB8RIVX4ICSGAAGEI7CDBWCX9OEKCO
 VHMZZR4TO0MIMBQPJR5ALYRGMWIMXRSPOFKBQOJJXQJNTQ6ZMJZ9ZOKMO6QDGHMSY1AIHNUYO%
 2B1SQRND5HBT83FQAADWRETR0NXPTGK2VFY%2BRGZYIUXXEALQXBAMDGZY1VCU4OXIZOZZUCKP
 K5UA5ZVAWFIARRMHY3OMC2P7KZQT%2BVBOT5KIA8AZYHOSWBOY5TVNJELSXYSXO7OSXPN4IY2N
 NRQLM1DXDGAT1YMFAHU7CRDA8LBJIA%2BSG64ITA%2FULU5QVUNW97DUA%2BIJRJJ4MKMHZJA8
 R6LLN5VP1WFTT4%2FRJ56IP4UXW%2FGAMU8Q7TBLACJW%2BEBR1HH0GUV%2FAC1N%2BT%2BJXM
 G4NICJ7PGPMZP8UU23WTEHA2EVI%2FCDK2WGYXW8U6KEZPLH7NWA7A8UUJXY01OLT5PTC0XOAV
 2%2FATSB1GGFEIKL7N4GRI8MYN662I%2FICKFVRPXD7TXBIPOUMWURVDGJ9IMQ3TBH2U40HDWY
 CQWZAAVRCUVPEHM2U8%2BYKQDANDD4XHBD62BD60TXGI0ZCW06DKRO4RK69P%2B7XL9LXISJCO
 VPZNAXWTKBULZMAD9OPNBDTJXBEWRL20ZM4SFQIL87IJHMJY%2F3A4TYIGMXGN4UPBHEUFCCF0
 IPKTZZWCW0WCHO0PGBXEEQDPFVB2H7HXRTI5N7TTLLLY1BMSQPCMOJ23JM9DA5%2FWBL%2B0FY
 XEV1ALYOBYSFYHWUGQUH8LGPOK7HWXIQ4M0LI3EME0A6KKWNQKWRJWBI5ZYMX1LZ7I5NCS4L%2
 BKU%2FHLVND9WJRBZFZISXE0RCFVNAGGBZJO21B3T9%2BKHCPZVJBUK90QUCQSKMDJFMIBB3BK
 %2BVC17Z4CWMAB%2BHKWLGUORMK6KMV8WGJBKRWLXYCLX9V6S5A0TNXXWTOTVM14K2S7CKE3XU
 JLCYRM03RT0LQ%2BYOMWRYRWDMVVW1ZTOUCASFG3HCKJFAHUZBUK2KTUGXUBYUFTKVME4HADJO
 AWRTPLITVWD7I8UWT28VASYYYAYUZCZTNYVMZEEMU9GGAW5NQ6VPF0F4P7UFDRJLW15WGJBBUK
 M%2BLAZUD94JVUWYEQ7C8T7ZETYGQ20KNXZO7U53SMD7GBKSANCIBNWZ7R4DU5P7RDJ%2BAONS
 RJKW%2FJ7H%2FWB2LONNJQUGJQJIE896R%2BKCRA%2BPDOBJ099Z38M%2FH4QMFOLUEVUHPVRT
 %2BWBOG9340RGCGQQ7CF6MDWRYGSUDGEHBVBCWXPQNWKAG8%2BNTNYQTE4TFTCVV3OYJWSGGOJ
 BTMTPY5JSTR1%2BO5JFMMAFAQY6DLMMM3IZONZPVQON3FSGFMUKDQSQCSQSPGPJGWME7%2BVCX
 %2BOVKIXIZSFCBMAEBNZ0I0POQFIHFWCZSQVCK7HC7ENBYRP5VEITIDB8AOMWSASBHJ33GGKTR
 0G400GV9ZETSJEE6A8%2FZKSDB0J86EATRYB2KNXQWFHPZJAMKQCWINCTGUYMROX57HOAOTSBK
 QCDIONUA%2BKSJMK9FSI7960ME%2FDVIWH1VSKCWKGEMZUKSDCAZMVFGBNM45C2RYZOTMACYAA
 JNQAI%2FEFUHGOLNDBMZTCHVAUIQGCPCO0WNHOULCRZ7JXGJZMBLGSIHSRGWN8ZUPDCCLN1L1S
 LPD2JVJ9LBZJ%2FPKNG8P3JEUYRDWBY6DZNX2HURMDMFY2WQLPTLBESF3J1GO5BU7CEIVLLRKB
 LQPHSJWY53T%2B03LYQA3XBR4TZ0N7OKAGHENQFLZIQ6%2FJBGYEFSSJHIXORTPC0SDTQNOYBX
 D%2FO9YYBLWVNJBIFIUE7ADDO3JBGXHRZ3ERTXMNLHSLEW1NS2CDMMVUFYMMWIGXZ3OKVR2MM7
 OVAQSNFUEMZBUNBKZJUBBJZOKX86RBK3CPZQSAB0LDFYGBJZMP%2BH8LXDB8QLQUHCJNELSBUY
 GO%2BNPCTFBZDSDAGAO0CVU0OPBF3UNPQADPYO1GYLHPM3MYK16CQVMMFJO7ADRFEDVZFG3CYR
 ZCJK5KZIQ6GAACWCYEUCPLQ1BYM7I4FU8N54ORDAZBJMIYLIMROTE9PKRG4DRCLWI20%2BYM%2
 F3N8AXCU7UXNI8TS59F8KF%2BIMMCSU5EI5GBP7X1B7VNWVKAPOMYMU11LMW%2FAGEQ3RADQEC
 I4ZJW3DNER5EL3ABT9UVBVIWDFOFPGB7SIXVHMJGQPIT4JY01Q2WPZBLDWYI%2BS5TLSTPAWJA
 RKB1GGOP2HVOO3KCJGDY1CTOBV1WS4HGQWYSCORHI%2F8AZWR7I8FNOI2XUC2QQVRA8YROGGAY
 KDKC1BH9LVZN6QV0Q0S3VBKOAS6IB09PL1OK6AEY5JHRXEEAEDOVUVCVLFUNDPOZ4OHZKOFQMX
 YQKTBMPEEHEQMUXWSC%2FFBV0YYBQUW5DVSXIEBIPCNKFZGNJ1ROFZHHJG2EW967IDCTESLGYD
 V1C5VLJDQCTLIGATTWO7E8H7M8Y6ZSJDCTSEY93VBPT%2BIG2OCDDVYWMI7EUM1%2FEZJYOI22
 S2PPQF2MNMDTRW44OIYLHBNBQIWSMJ3ABRLUDPUYOIJJYSDQWPAMRDNTCU%2BNIXVCR2IIRNDV
 CUBJJQQQG143GHUDY61OU2%2BOL4S5BT2VANXDEDLLLL8LFCWYEMGNXBYMPTURPKSUM5%2F2FU
 NLXIB0DEUNQM4B8BVNH1YHMKD3ZQ3BSOVTG5%2BY5ZDJUIZFXWK9NTQMTJROMCH4GT91T19TEP
 PCFQ%2FIV5UX0BEFAB4UQWQA3E45ZMHJTGPWDCAI21%2FMUGBRBYGNOCQGNFY0JXTLSXEI%2BJ
 KDSTE8VZRVFIL500CIJJM6ANSJ9K1CKMXK5EU8GBJE%2FIH2VGODAPDIGSDOCZRA%2FL99EYI8
 WKLO%2FIRP6Z%2BYPL1LIJPAY%2BYAIHICDOJID1PMIF8%2BIHBTLHRPMB7%2FADPYZE8ZLAPI
 5NMFFV6U3DXBHIIG%2BYMROJ91WQ5VTM8IR7A5LZLLQZEADD4%2FGDQAPH8WFVBAWYIDC67AQW
 CRIVT%2BZYN930NZO%2B3XC0FJR5OZYZHMSWZEKY2%2F58QRBCF3AHP7Z%2BFNTNZ4G0CKHWKK
 DSBVCIKT6CHQ91MUKEGNZ9D92W%2F0RR3US1AHPGUUZAIOP%2BYJ39QKI4RBQMXQBWOXS6DV5H
 0KDKBYZVUNKQUE8OZGZESJKA6GCRLM%2BPMDZEAGJQITBWNDWMTWHNMYIS0AQOM5IUAHNA9R7O
 DW93MUAQAQXC%2BYMXYHRB8BE%2F615D4T9FDRNLM6YK5CQZWIR7WRQD6VMZCW2HV8ODLRHYIX
 VGM5BM5OBAZGUMHG80DW3IT02LVQZLMSQQOPYTMKPAGLPIJNZKIMPWZDJMM3DUD2OKLMAGGAHU
 TAGQTYAPUAHZHONSYC3DL21VE8VYRFDSV1ZVCQEK6EC4CLGVEUXE%2BEA6QUQI6T3YOZTODIKG
 DMP7K07CREZGEJGB7OHMMEXNO9GTABE3FULA1HSOIVQB9RMX69RTFWXCUIYZLRO5VBBY6ZY%2B
 UNW2828ZJMANNPNPCABUGOT2GZCWPUWL1J9TVHXZERB3YHRPHWBIHWC%2FGRFVGYS6KEQEBGUP
 OZX7IY91ZNIMI0UEAHMCGB2GCT8WBVS0WBUXBLZVVC%2FD5H8BZDEYOOUBNVYGCT7HHCYKJQBK
 XMYZ4NOHCODQO1MNQDFYLHUNUYAZNJQB7EKLIC4AER%2BY2PIT19K1TNFB2SX2W4ME0CG%2FYG
 CKFF56CJ3KXUNETOJ4LVZLTKXBG3NOBIQPADO%2BBBQDZNCG7SYRLEJZ7I%2BOULIHGHFAIIXQ
 A8GRYIFDV4J2YTPCNLBQZSSYLH8RZQ2UDYZJ15QDJRLDTEGD5WUZFFOWTBUVFSDTJDYQXDDEWF
 P99IFFXHQ%2BZQH7K8YAXDQQXCGKTKEKKRKAK7SJMX1NBNTPGVXFPMQHYNMYACY%2FSMINBSER
 865ZWZGFHW4U%2F8X%2FOTXJUJ97BSMTC7LCZSSJNEJFVXHSALYVN0MNDAQZ3QYXHC7US8F2DE
 SZHKAV8AVTZEG2CDP2AJ40XN92C5NDKJNTVKRVC%2BUUGNHCCWRGW4VIDEYOEGADCY76IZG%2F
 WNQN45WIZ3AYQ2627LQGFSZ7RIZS4CM0YIZLGLTYA0BWQMDGAQLBPCO%2F1BC4%2BUMIQUK2WB
 G1T6ZU45ANC1EYN6TEP%2B8X%2BNXHBCAMXZBC4ZXDLVXUMTUARNEZNLGZPTLM6DCSDBT65FCR
 KDAZB53FH41L19TOL6DL%2BJWAVVXCN%2FAN%2FP4T%2F%2BDKOWBVXXQY1OKSAJBKT7SUBMLD
 D9RIMRPUQIVX3OXMEDUMDEWKV1RIGCF9HR0JRPMK3MYMPZZQ2O0Y7HONIYWHHEXF62BCS4L5DI
 LFCEEHMGMQNT%2FWTEE5WNMMQ2J0PLZ8XZGE%2F%2BVX%2FDJ9JWXCNQBQAJBICT5GKZLZCZCQ
 WJ11AEH4J06UVWU7KUQMACORGG68UEPQYAJHNBLGTGJLNOMYLJVGPGXH4VVDTATORAUZWKGXEU
 JIPIZAKFAJBOG%2BN1WFJJOAXJZ1GRPQAD6DPLWQ7UY5RT92ICALIVG%2BYERLDSRRSNUJGCXT
 ZPV%2F2B4YL15MBRUUTOM50UCFUN%2B5WAUTVXRP0CO1VDTCCK52YAASFCOADOQLSJQRTO%2FF
 CI2KKSDOD2JHQ%2FL5DKF4XGWT3GZWME%2FTEHAZAXTW67NYHVKXEOJDBVLZO5KIAFTUE%2FGR
 %2FH2ACLJCZG20EA%2B0DHWDQYHXOTI0QW8SGGHHHJNEQ7SY0IBBIPIGIN6FWFQ0E7A4C11ZOH
 XNGBWKAQRRP7R%2FGIBZFMYLIFGYEK4EZD4JMFJ0FV%2BJVZC%2FDNDZSUKXLGKGIU%2BE%2BL
 XLBG9TVSR23FE6ZQENOW2FOMYNKAGEB7JAUA6MZG0RWW4OQGQT1RLPGGGELQ5MAEIDJMOU%2FO
 HCRJXUMRBFGSSBC%2B91BNXNI5CQHXGE8LVQ0UQBVRHMFYYKZIOEXBUDWZRN1JSIQ6P4ZGR10C
 HISGXUWVICQ4YNTUJBY7C4W32M4TWBFNU4T66E8VNOBCBMSLEULGEFDPCCGWV0IAKZXGWCLH7S
 28RIBHYSFI1ZYKIAW1TYEDYBQEQHKH%2BZOJW2I4RG3JQWEDEB3ZWBNUIEVHV4IZ5CMZGRB2CQ
 YDI2INWZ%2B9T8BA91ZLJ%2FFKTTASFOFWXW0N9RVANOZKBBWDPTOIN9BQOTTGWBKJBBGUDU6V
 YTTUZRJBL4TMUBTSQD7PSIIMR4UANYQKYNRHCNACR3T12EQAIZAYAAW3BSNO2RPOLXOJQIIYIZ
 AAYKQA7ZPGQDB6XWK7C2KJN20XLKIKMRFVKZKEE5YZXHLYIA1HELLESVITU2MZZACDO5SEO11O
 ORG1PZGD%2FOTYVRFXNV3ZMTTWDQSGCDIM%2BIFZN7XBGXD8OV2LDWSI2SVJBOT3YKEZGUGG7D
 KBZ0JLM1DS33BGQXUPIQW1ADDNQSXJZV0J5NLVVJ8VAZCUYXCYGYI6ERPQFIHL8P5TTX1MOAWD
 VQN75%2FGTDWJHWXQIUPLIS5OU8AG2UZT7BHVZB0B%2B%2FIYNJL9%2F%2FPWTP2TS3WCQIAKQ
 XA7N7SPEDMTLOY65VEENTACA6UVPK97P9NXXVT7BG2JRBYSRUCJAAQLGAWMPECLBQCANI%2BD%
 2BIW7S5YUN0U4UNLCQQMYNTNJUYIIPF5MUGJHLWWSLI8QUY8FDM48AAE2SRHHAGM0AEDDJEZRY
 RF28PDZBBSLNULQWHJBCYZJMZ12AB9KIDBVFS%2B7P4KYPAIWWTWG6XL93AUMQGCROO8RHU2II
 AI4LJO%2BZXIYNSDST0PT3IH%2BIXMCL7ZMTNHSPILSRIBYZDINWTJGAJNQ%2FCMQH7U4HBLSQ
 U3CBSXVSDYAPQOIQ7%2FSH%2FWBQP%2BGV%2FTRYTB9G8VKF517U4FK13D%2F93%2FATBWV1I9
 F%2FANGPUQWQQWHA%2FWDRTEH%2FXCS%2FWF21934V5SRO%2FSJ9RDIX61V4FXRI8W%2FWN6LS
 PU%2BCU9ZY%2BTDU7B%2F1S3%2F%2BT%2FE1E0QFX0L9CEA%2FRRX8J%2B41SU0V9TB%2BC7%2
 FLNSPVNFST6YLGH9XUETV%2FADUONEFRF%2FGB7JXTKILFJC5FWJ8KMWP63DF95F8A8MAVKPOC
 EKEY1ZZTD%2FVML%2FWRN%2BGLSQUFPPZ9RHG2X%2FJP3TUPA3%2BSYN%2FHW%2F8ALELSQP9S
 59UIFO5%2F%2BJR%2FAAP9XQ%2BXX%2B5%2FU%2F4TXTKUFV7A8QDF1MI9F%2FW1IRNT2F8AHN
 72PUQFXFA%2B3MCFT%2BFSRXREWF8AV738DR%2FLELSRO7%2FFJPTQEGFRH9E%2B5QEW36ZIH%
 2FBT%2FWCA9E0QX%2BP8L9FQXSL%2FAFHD%2BN%2FQRM8M%2FQYF97H%2FAJMVAVBSV07FSPUQ
 SH%2F%2F2Q%3D%3D%22+ALT%3D%22PERCHE+%C3%A0+SELFIE+D%27INSTALLATION+MOTO+..
 .%22+STYLE%3D%22MAX-WIDTH%3A+100%25%3B+HEIGHT%3A+AUTO%3B+COLOR%3A+RGB%2834
 %2C+34%2C+34%29%3B%22%3E%3CSPAN+STYLE%3D%22COLOR%3A+RGB%2834%2C+34%2C+34%2
 9%3B%22%3E%26NBSP%3B+%26NBSP%3B%26NBSP%3B%3C%2FSPAN%3E%3C%2FP%3E%3CP%3E%3C
 SPAN+STYLE%3D%22COLOR%3A+RGB%2834%2C+34%2C+34%29%3B%22%3E%3CBR%3E%3C%2FSPA
 N%3E%3C%2FP%3E%3CP%3E%3CSPAN+STYLE%3D%22COLOR%3A+RGB%2834%2C+34%2C+34%29%3
 B%22%3ELE+CLASSEMENT+INTERM%C3%A9DIAIRE%26NBSP%3B+DE+L%27%C3%A9TAPE+%232%2
 F4+DU%26NBSP%3B%3CA+HREF%3D%22HTTPS%3A%2F%2FENSIMAG-ALUMNI.COM%2FPAGES%2FS
 ALON-PAGE-CONCOURS-PHOTOS-DE-PROFIL-ETE-2025%22+TARGET%3D%22-BLANK%22%3ECO
 NCOURS+PHOTO+%C3%A9T%C3%A9+2025%3C%2FA%3E%26NBSP%3BSERA+ANNONC%C3%A9+ICI.+
 PR%C3%A9PAREZ-VOUS+%21%3CBR%3E%3C%2FSPAN%3E%3C%2FP%3E":Détails participan
 ts: https://ensimag-alumni.com/events/concours-photo-d-ete-ensimag-alumni-
 classement-etape-2\n\n\n_*Mise à jour 23 août:*_\nLe second classement i
 ntermédiaire mensuel est publié !\n\n\n\nArrêté au 23 août\, tu peux 
 aller le voir dans cette page par catégorie ( https://ensimag-alumni.com/
 pages/salon-page-concours-photos-de-profil-ete-2025#classement2 )\, et cli
 quer et liker celles que tu aimes !\n\n_*Mise à jour 25 juin:*_\n\n\nImag
 e (extirpée): DJI Neo: the latest rumors and ...  Image (extirpée): Perc
 he monopod Selfie pour Vidéos ...  Image (extirpée): perche à selfie d'
 installation moto ...\n\n\n\nLe classement intermédiaire  de l'étape #2/
 4 du concours photo été 2025 ( https://ensimag-alumni.com/pages/salon-pa
 ge-concours-photos-de-profil-ete-2025 ) sera annoncé ici. Préparez-vous 
 !\n
END:VEVENT
END:VCALENDAR
