BEGIN:VCALENDAR
VERSION:2.0
PRODID:icalendar-ruby
CALSCALE:GREGORIAN
METHOD:PUBLISH
BEGIN:VEVENT
DTSTAMP:20260423T232802Z
UID:7f740db4-5789-462a-9715-4c13bd8da993
DTSTART:20250915T000000
DTEND:20250915T235900
CLASS:PUBLIC
DESCRIPTION:Détails participants: https://ensimag-alumni.com/events/concou
 rs-photo-d-ete-ensimag-alumni-classement-etape-3\n\n\n_*Mise à jour 28 se
 ptembre:*_\nLe troisième classement intermédiaire mensuel est publié !\
 n\n\n\nArrêté au 28 septembre\, tu peux aller le voir dans cette page pa
 r catégorie ( https://ensimag-alumni.com/pages/salon-page-concours-photos
 -de-profil-ete-2025#classement3 )\, et cliquer et liker celles que tu aime
 s ! Attention: plus que 2 jours pour le classement final et définitif !\n
 \n_*Mise à jour 25 juin:*_\n\nImage (extirpée): DJI Neo: the latest rumo
 rs and ...  Image (extirpée): Perche monopod Selfie pour Vidéos ...  Ima
 ge (extirpée): perche à selfie d'installation moto ...\n\n\n\nLe classem
 ent intermédiaire  de l'étape #3/4 du concours photo été 2025 ( https:
 //ensimag-alumni.com/pages/salon-page-concours-photos-de-profil-ete-2025 )
  sera annoncé ici. Préparez-vous !\n
LOCATION:En ligne
SUMMARY:☀️📷Concours photo d'été Ensimag Alumni - Classement Etape 
 3
ATTACH;FMTTYPE=text/html:https://ensimag-alumni.com/events/concours-photo-d
 -ete-ensimag-alumni-classement-etape-3
DESCRIPTION;ALTREP="DATA:TEXT/HTML;CHARSET=UTF-8;CLIQUER+POUR+LES%3CA+HREF%
 3D%22HTTPS%3A%2F%2FENSIMAG-ALUMNI.COM%2FEVENTS%2FCONCOURS-PHOTO-D-ETE-ENSI
 MAG-ALUMNI-CLASSEMENT-ETAPE-3%22%3ED%C3%A9TAILS+PARTICIPANTS%3C%2FA%3E%3CP
 +STYLE%3D%22COLOR%3A+RGB%2851%2C+51%2C+51%29%3B%22%3E%3CI%3E%3CB%3EMISE+%C
 3%A0+JOUR+28+SEPTEMBRE%3A%3CBR%3E%3C%2FB%3E%3C%2FI%3E%3CBR%3E%3C%2FP%3E%3C
 H2+STYLE%3D%22FONT-FAMILY%3A+%26QUOT%3BHELVETICA+NEUE%26QUOT%3B%2C+HELVETI
 CA%2C+ARIAL%2C+SANS-SERIF%3B+LINE-HEIGHT%3A+28PX%3B+COLOR%3A+RGB%2834%2C+3
 4%2C+34%29%3B+MARGIN%3A+10PX+0PX+15PX%3B+FONT-SIZE%3A+22PX%3B%22%3ELE+TROI
 SI%C3%A8ME+CLASSEMENT+INTERM%C3%A9DIAIRE+MENSUEL+EST+PUBLI%C3%A9+%21%3C%2F
 H2%3E%3CP+STYLE%3D%22COLOR%3A+RGB%2834%2C+34%2C+34%29%3B%22%3E%3C%2FP%3E%3
 CP+STYLE%3D%22COLOR%3A+RGB%2834%2C+34%2C+34%29%3B%22%3E%3CBR%3E%3C%2FP%3E%
 3CH4+STYLE%3D%22FONT-FAMILY%3A+%26QUOT%3BHELVETICA+NEUE%26QUOT%3B%2C+HELVE
 TICA%2C+ARIAL%2C+SANS-SERIF%3B+FONT-WEIGHT%3A+BOLD%3B+LINE-HEIGHT%3A+22PX%
 3B+COLOR%3A+RGB%2834%2C+34%2C+34%29%3B+FONT-SIZE%3A+14PX%3B%22%3EARR%C3%AA
 T%C3%A9+AU+28+SEPTEMBRE%2C+TU+PEUX+ALLER+LE+VOIR%26NBSP%3B%3CA+HREF%3D%22H
 TTPS%3A%2F%2FENSIMAG-ALUMNI.COM%2FPAGES%2FSALON-PAGE-CONCOURS-PHOTOS-DE-PR
 OFIL-ETE-2025%23CLASSEMENT3%22+TARGET%3D%22-BLANK%22%3EDANS+CETTE+PAGE+PAR
 +CAT%C3%A9GORIE%3C%2FA%3E%2C+ET+CLIQUER+ET+LIKER+CELLES+QUE+TU+AIMES+%21+A
 TTENTION%3A+PLUS+QUE+2+JOURS+POUR+LE+CLASSEMENT+FINAL+ET+D%C3%A9FINITIF+%2
 1%3CBR%3E%3C%2FH4%3E%3CP+STYLE%3D%22COLOR%3A+RGB%2851%2C+51%2C+51%29%3B%22
 %3E%26NBSP%3B%3CBR%3E%3CBR%3E%3CI%3E%3CB%3EMISE+%C3%A0+JOUR+25+JUIN%3A%3C%
 2FB%3E%3C%2FI%3E%3C%2FP%3E%3CP%3E%3CIMG+SRC%3D%22HTTPS%3A%2F%2FENCRYPTED-T
 BN0.GSTATIC.COM%2FIMAGES%3FQ%3DTBN%3AAND9GCRTOFZBEZOGU07EBUWWH0H9E--OFN16E
 3XPTG%26AMP%3BS%22+ALT%3D%22DJI+NEO%3A+THE+LATEST+RUMORS+AND+...%22+STYLE%
 3D%22MAX-WIDTH%3A+100%25%3B+HEIGHT%3A+AUTO%3B+COLOR%3A+RGB%2834%2C+34%2C+3
 4%29%3B%22%3E%3CSPAN+STYLE%3D%22COLOR%3A+RGB%2834%2C+34%2C+34%29%3B%22%3E%
 26NBSP%3B%26NBSP%3B%3C%2FSPAN%3E%3CIMG+SRC%3D%22HTTPS%3A%2F%2FENCRYPTED-TB
 N0.GSTATIC.COM%2FIMAGES%3FQ%3DTBN%3AAND9GCSHAWE1QF3DPU6-WOIFY4DEHX9B-E8K2D
 IMZW%26AMP%3BS%22+ALT%3D%22PERCHE+MONOPOD+SELFIE+POUR+VID%C3%A9OS+...%22+S
 TYLE%3D%22MAX-WIDTH%3A+100%25%3B+HEIGHT%3A+366.449PX%3B+COLOR%3A+RGB%2834%
 2C+34%2C+34%29%3B+WIDTH%3A+283.099PX%3B%22%3E%3CSPAN+STYLE%3D%22COLOR%3A+R
 GB%2834%2C+34%2C+34%29%3B%22%3E%26NBSP%3B%26NBSP%3B%3C%2FSPAN%3E%3CIMG+SRC
 %3D%22DATA%3AIMAGE%2FJPEG%3BBASE64%2C%2F9J%2F4AAQSKZJRGABAQAAAQABAAD%2F2WC
 EAAKGBXMSEHUSEHMVFRUVGBCXGRYVFRUVGBOYGBCBFXCDFXYYHSGGGB4LGXGAITEIJIKRLI4UG
 B8ZODUTNYGTLISBCGOKDG0OGHAQGI0DHX0TLS0TLS0TLS0TLS0TLS0TLS0TLS0TLS0TKY0TLS0
 TLS0RLS0TLS0RLS0TLY0TLS0TLF%2FAABEIAOEA4QMBIGACEQEDEQH%2FXAACAAABBQEBAQAAA
 AAAAAAAAAAEAAIDBQYHAQJ%2FXABMEAACAQIEAWUEBGYHBQCFAAABAHEAAWQSITEFQVEGEYJHC
 TKBKAEUI1KXWFAHM0JICTEWNFOCSRPHFUNZKPMKDKK0WTLXNVSDW9P%2FXAAZAQADAQEBAAAAA
 AAAAAAAAAAAAQIDBAX%2FXAAJEQEBAQEAAGICAGMBAAAAAAAAARECEIEDMTJBE1EEINFS%2F9O
 ADAMBAAIRAXEAPWCTC04JU4SNI3XA8%2FA4T173DEI3THBPAEBU6R0W6LFQNC1S0YDFUNC1RGT
 U4WQNPAXC153NWHDUU5PAEK%2FU6ABDWJS03UANGK82Q87MRE2A87INOXXGZXNC1Y9XXNCUAMV
 3C153VWJS002ANGISDW%2FNLMQFE6MYECWZVJRQFLREUBWU1IMC5KS%2BGWSQONSD3DVBRA8SQ
 VHXLCISBRLDUYTB2REGU3YCFFD52YGD4FWWUKCOY08Q53XXIOK4REGFWPFMZ4GOYKBGOM5GNTP
 Y2NQAW762T%2BOFQ3TFXNBSVW4VEGYCWYK95CQCARQS5ZPXUEISJRB2%2B0LMZ%2FU2BJLGWCW
 U7UOVUAQ66LIGQTMG%2BX1ONTP2EW%2BDITI5CXGJX21LBLYGBEEZS0WCOBBENAYMGVSGOYFQD
 B8YGONR7DDVYB12ZRHNUEWNZZSA3CMLIK42YA%2FGP%2B7OQ2YXALLR2HAZFQIALXDV0A5SAI1
 THAQ0GDIPEWO6UAMV9PJOPBFGPHH0QZRDTAAV%2BJ%2BVKRHNSPAALW3UGTUSTQPVS1RRHAI2Q
 ELVFRZQRBNT5KWELVPFMJRZPWS0VIYBFQND1ROS04WAXKEAXAR02ANFQND1S8JXX9ZS7MRHUAX
 C0EQ8VB3NE9ZVH3FE9ZR5DFB3NEDZVOMOELI4EJYHIQU4RW2KTHHPP%2F0I0EQXRDPZCXP0HCQ
 %2FDHZ3BHEVBGABHK3ZLTYM7RXPLZ3B%2BOK2A1NK2S2LRZCQAQAHSCPDQTOUTDXXNDE8XISY7
 WVMESIMEEVD4VD27F2ZDSXBVZ4RMRVT2H9TMCXGIYIB9KTPPPQYBA6PI2%2BOXXAXGGKJ2IPJO
 85UOO%2FM61IRIU9ZUSZFYJ942HQNFLXUU014QL4BTPMGNOYBIEJLIG6666WA5XYXZN0KAANF0
 EH76W5TX0DOIDNVVSPACGQIKH5EMQGEEDY8%2FFVHJLI2VDXGCGKKO3ZMOYOO1ZJ0GTCSBIR2S
 UPTXDBXWLCIYQCM0TMIBMAHECRRGTBLIVAJDKVUWFD3NCZBI3LTTBISD7AVA5ZQADLEEHWTOVM
 6MSC7A5R8U2%2B2WWUFF1XR1DGGJLOVLDDWKOHIPOCPILSORRITCUXOGVTLV3M9T2U5NZLYQXU
 5LYKEGNJXROWHGQLZDENUS1PZUXQLRTHIXOWY315%2FRERMDP8FYE%2FCUI2ZUNMIZEAGNYAG6
 NUZZJRM%2BPV5J8VU79Z9NUFJ2ENSEZMMGLWYYHBGBRL%2BY40ZFJQPIG1BRGD82KVK%2FWBEK
 W1UYCGGO3ELJ55QCPGAFCA6OQQENSURY1Z9CZCZ%2FU06%2FKLV99BT%2FZHWPU9LGWWZUQ2AL
 W1UGTVPEMFIEWZTXZOXBNOFQP8JWILVE91RFD04WQWNGPUQQT0Z3VEI1S08CI3XOT0V3DOFUJT
 WKLNOFIIRBP4SJQE7IPUW4QUPUIPS0GGZPUFC0VSAOMN3FOFGMI1FSRROXFH8IAJI1R3EYIMCD
 QDEJKYIYFMUWIWKIVA8QBPTKH6UBD7OUHTJCUC1BDEQJMTPJY5Z6GEW9YHG1PLU3LIMO1GLSJG
 YXEJWNQ%2BLRIZHDAJODQZVADHDHML3RHDKXVLBWLMPCUOAPUDCFJQDORODNOSNMA8%2FJDCG%
 2FR3WNCBILR3VDOIIVOOZXSQPGQVHQWEVWXAL9G9%2BY4FBJVBFIBJMHEJEG7WGWQIMZ1611DS
 L2VXAOWZK7PLO62XBZMFJ2ASF06C5POIO0EI7MWXMGKWP73IP4V5%2FP%2BV338%2F%2BL%2F1
 XMUWWBSYWYBCA3IZUHMINKOIC0D3STFV9VNDUARURPY%2BVMX9XMAZJXF76VUZEE7MMVE1TW8Z
 NPQAQLJAG%2BG2RST262%2FHLY9ORHWTMZLOS7MDQRYYAZ7PCDZGIUGDNMCMJW9VELEODI3YSC
 VDFCWIR56472JFF4H8TC8I2ROSOVSJ5NUKNQWOLBL9DXAFLDBBOFBEJE3PK6B4H6MQ%2FFF3Q3
 NORYDE7RSMCUQBFKKGATMPFTVMFQVUP6WIBZP3C1PSPGH7MVTAOGCPATB4DFMNFR6MAPWFAWGM
 NXNC0DLRXRDAWGLNLU6IZA8C0AMQ93XUSVMZIETI1Y4CQICSDTOOGGPPQDU1NUB9USHI7OSWWU
 D40WGS3FBGFJ4OGAA7XQMAPLSY1LFOVACRAVIOQCWAQT0GYONK6LTLTYKDXXMTYN%2BLIXWPS4
 FDSDBTOTEBUEIBLI%2BANUZLGWDP2LJQGTF2PXJT4A6UHJKKLAZEN%2BHDUKDXWUM9MRD3C4O4
 6%2FYXAS0LJSE6UAHKZN2EHVLN4NNU98%2BXPX%2FBHBXP1ZPLHVOLCV7C8C7XXBSCQAESVNMX
 %2BKJIYZROWMM5GVGS%2BBVO2W8ACWI11Y6NANYFHXQO1TSQ5M77J2PPKPZPXH8P%2BN18U2%2
 FBO4S1DWYX3ZGQTQNIK1C9SB3C2RGV8L3QWUEHVUIHVI5ZHONQ1C4MJGKCR9BEI9LDF9WBOKX3
 EBBVEA7DILEYW5E77Q0VCNR9JRRWDXUHA22RHBHZ86L7O3ZBXFT19PHVH6QZHZFAVJVCO%2FS5
 LHJQSPMCXWP4Q4W6CER2RP%2BL5J3NZDTH0R%2FTFCFVF8RFYPVYB%2FBSDPNXLBZGEO%2BBAC
 BTSTOARIGHA9Y04CPATI8RQTPC1IFPWWG8RHA9IPQLIRTCKKUU%2BKVARLABKQWKUUE5F%2BML
 N7UZBUEHHCMCT4LA1GG6SDFM1ZZ9GNWPXXCA%2B0BI%2F81LWPMFLXAE3%2FZ%2FE4U2GWJ20U
 LNUM4WHGFKTLKQFFKAE861YJ9DNB1UCRDOXR8MGCW2TNNZ2RZNWLZRMXESZINDDP9O9HKLTRSF
 OFJKWVKBNOA60KR1UDROOJA4C32UTQEUDMZTE9BPQAUBLXVBYNQCTWL7U37EMUWMO%2BRKDM41
 KSAXUW3VWI3GOYBFHQ4VB9MGVXSLBUYGS126XUMFJ2ZRYAOGGTJANQDKWEJ%2FSBJUDZAS2VTB
 IOF1BJNAYIWY3BRPRA016TXQUFUES2W2BKIIS3TDKAQLUE4KK9ERFZDJPYS6927DWB22DM10YA
 7MVW5L2W23SSM2OBIHKEPM02T7G4LR%2FABXKVTQULNXBTU2PFKHRTMPAXOGAG368JW37LYG%2
 F7NW6WYQTMKGLMJBA7CGCJZIWE689FKS9%2BHVGXF3RUIPHW3BKK2XD3ZULSEYTHH5ZHXUBFZI
 ZATJASRAFUMPBNUAGVPTAJC1HZTQ83W%2BX5SFBOYVCW8OHJ9%2BSKT6NC1LHSTCL3G0A2HJQN
 FJWJ7WM4ZBDXCPGY49K7AEESBCQGUYELHKUSIUMWZ%2BQTOMXP4E%2BVJ53N8VUTD36VMBAAA2
 1YJTTW%2FULXDRCXJZFKZB%2BYNBNL5UTKIA2IRZJL7ZV6MH%2B1PD%2B%2FSVL1NRVSOEUQQP
 WCZRQ%2BHVW7%2F6MUCZZ1NKLPKFHSR0TS%2BVWLOYU6KCFRMJAKCBTWLOCUA0LTHTWKROCOLF
 PPUWZFLLT6VIGZAWWNMO3UUB7FCK%2FSRH24DJBXEMIO7NXBNEQBKZPLOY%2B3LDNII8WQKAQT
 XVHVEDVPAPALI8O9HIBOQTE5HGQNHODUOYJGXPLQFS5XLMXH0VPGUJKNCRJ2H6BEHMRKEDWDCR
 7ACZFH%2BLFCXPRHOQQSSEYNLGP5IZZZ523RPHRXXXXHHP5CJBBIYMVZQMXHGBBUSXWB5GQ%2F
 F9PIVHINTJESSGE8IDGQPOLFQNV6AHHRNTH5HZ%2BXOUDDSRT3CYV6CIMC1XLLGNKA0BNPBYVP
 JMGW4TOSGTPE6PTX2VXNTPO6S3EXBCYNHIRIVBZQKAKMEUZZNTB2SZISWPO10G8CPYKATKKAZI
 SBPQC%2B8XQACORC4FTRH75DVFA3DOHZHLVTCDMGMVPCZSES0C3FR%2BLJSYK49QYJF%2FFMSC
 %2BYEXYFWGQU5NQ66XAZAYFSNHRDPHV3HNXSS%2BUGKTPCIRIJRZ1J5AXJYQEVEVUTQMOJXTY1
 KNNNEYQ62RB8NXDNAWBYWQ2WQ6S7HMZNEFMIIJJ02ECNNK8FTSXED4JHPLLN4DB51NBSODF%2B
 CFGVBHX1K8TPWHUQ%2FTHFSNEZFCW7QQYC2VWYGAWDNRRHLRVZ2QT3LX%2FAGYZSOG%2FGCRRQ
 BI59KKRWQZ4LJMZXLPAY61SUP8AEMACBFVWBV9FDFHBUZ4LMJBQ%2FGUH%2FJ5%2F2NXM1PZWE
 WSG0UK94WYP5EJXN%2FDG37XHSJMHHNP3E9BMBABOKAAFGHOK9RMDZZSHN9TGLYBUDKO8MAJMC
 USMQPA9RB2IVI2OFLWVOYEL5AZQXIMIB5VHPI%2BTR3MLTKMTD%2FSFP7AFC5%2F7KVV31V8AA
 3F%2BO1KTP4%2B%2F%2FTH%2BFL9ARXORWGKQA7VN5HXMEOXJPOEGTTM5XGUUM1YOU%2FNPCTH
 Z6Y93ZOUXTUB3IOK0V9IPPXFASAU6U06NN%2BMG5QJVGDNFFUYX6IFLF4X796R7OU9CE0JDXCQ
 TJOBFCSXWBPQJRVBIRZE6KGEUP%2FLROXN%2FANJVDVUEYM17YIDSDQFZRMHQG923UMHOIUZ2Y
 7TVFSAENMGAM%2B0RSC3PMIKNZUNYIIMTCQOWZCWYEEH2SDOQFTEDC8718JJMIBNZNOJYHSEHJ
 VRM2GA3O2LJC9ZHTV4GROQZNZLR09AAXJ3RHS3ZS%2FWUWBUYHABDITKZ6%2B22HHRIGSDDBET
 YKFE9ZUBRKRKDIIJNCDALBLPJGGD9CDA3QK4YUUH8RICGUI2OLM4ICOSZIEZO0QQIJIZILJ%2B
 6O%2FTL2E%2BJXCHUPDNX1M%2BYUWYLQXLNXKRI8M7DQHNPOF8HW1OPCWR73PENA4QS5ZTWBPP
 ITQ%2BA7T3SMTLZGYOFUKVJ19P4OKYDUDRBJ3P6Y2XCB2WW9YSPKYYZHVOMZRZ1BEAZTT30EXN
 2PULYWXFKHHOY5HQCCS%2BHUE1Z6%2FGARG4AZB9ZGJYJQ9PQCEPRA8NX%2BFVX%2FO1%2B7ZE
 5IXXLSTHQKQ0CDN6YVEOHLDVMUEX6SH9VWHBJJM52GMK6KCPQLZIBB1Q9RGSNS0XHTE85IR0MR
 7J0QZ4XJQGEQLZYTLLEMBMIV3U8OFWODS4FCAMGFY%2BB%2BUIGLZ%2BRB2HNUY5BDY%2FXTL8
 WSX9BBYWGY%2BO2TPMRJQI%2FPQXP34%2BS2M0E0OGS3UE6JMQNNKUELINGCWCWDEZY5A1MUO8
 ZBG37L9WFLKEEA5QQHVE6TOBRVZ2H4V3VX8ND1ICRJSVPSSOH5HZBGTYZE2MRIP3HPKR1RXJIY
 %2BPRFV7E3EIN4C9KU22GHDCCOROK%2B6ZQK4PGUJL9PZINZKCKK4TGZCUGCL8R923ZJ51DADW
 TM61%2F9ILN9NA%2F6VKHPONN8HSRPYJZ%2FKPPYGVTCGVEBKCGCRFK1BUTWU%2BIOW5FIHBL3
 ZQM3TTXF6FG6AZ3NNQXUV53LBC1EMO9BVILG7AE8UO%2FEV2N4CLP4SWUUPEUQPBEKP8TXNGTB
 09B%2FRNBXCCZBZRP%2BK3V8REDXXMBTRVVDVT9%2FQFFQBXWDSFD%2BFZNEQRHMFGVUMN%2BN
 Y86SHBX4WZ1260E9%2BWGXJ5HQA6ANPT8A9A%2FAJKEEX56TZ2%2FOTV7XNYAPLQFZV76CGH4T
 88ALOGAARRMRGOBJBYRODPMDCVWRHQGUVVEAPEO1DAYMDANQRG290BXHGUKSWEA6IDJNL0HMAL
 XGETVYBDTDBMCALKIMHIJBHNZ1AA6ILBIUY5PHEMK%2BGNQ4FFADI14SXPEKZ0RTGJUSDWHAJB
 GXPE8QV0VL6BIVKSPHIGAPESOEYUST9ONO60J2LS6MIBEYFFQ6QW1UHSZHRVLAAZDRREKHWDVR
 EYEFSX7C3%2FO63LIFG7KCILTNLJJAQSJYMJCUL4PWNJATI%2F%2BSYM7UHAKLNJUCTRLZ1HLO
 LT4HHQL1S4QME5FWKKAQQCTROTLALVCTIASCQ9U9BGMZWDLKVBHG5HBMJEZHMLXMGSWFEDIQYM
 47I88CGPHZM5LMYRMKYIX7NTPZVA%2F0VWL66WAYMDZIUIII%2BILRQBQY0E7AEQQCM5XDI4N0
 2SI27SMSABQWO7N1NALBCVS2MIHEGGQLZW%2BIABG3DUBEVRP7JOXACSAHYJB4BHF11S4HSVL5
 SASP7RCAF7W8TXRZAFHUL9SDX%2FHJKZRN52MTVR2M4HIMJCY3L3VIRKCYSFJVW9%2B29UFC74
 UKGRC03IOAEWNG095GDAMRT11F92UXS%2FRSHDCKPD29PZKAPG3Q6%2F36W3ECULPGUHSRMBZ8
 %2BVXRY8C4BEXPTIILLDPCQJGZTYZETOJOUDP4D6FHOW624NYSTTNHH%2BAQ5KC3JPLYYRBL5F
 ZIE6GOZ0I89V%2FAA1S8IQWUYP6K82PU0TXJGHD7DNOTTV8DX2Y5VEZUAGMVIFTT2D6TSN2SW1
 WBVXSNQAD22NKAQFVOVTN83PXXQM53J%2FZPWNE12N6PY%2FSFLSQCJH%2BBZVDJ3OLV2LXQLU
 Z8L1NVWIXJNVP3D4UGWFA62XYXENGYS3R%2B8Z%2BQ2PG4LDO8L6AT86C70DFX0QNSTRSPFN9M
 P2MON7OOA74OJY%2B8KX7ZQZV%2BS9BQA9FWZZZA%2BQOK%2BO393SLZVJSGANT3ZZQB7W%2FK
 TPJ8UCUNDXMSBKCO%2BGLRPJOXXTXMOVW6MKEAZDXZI5DDB7O2OC3YDVZPY%2FPWOL2IB0OKIC
 ENOKCL6YNTNGYMCP%2FAJ89DQHTYQNDAZ0MECBDN5VFR6TTIN7VL7ZUY4QYLDTMSAFCT6KHFYD
 BUYUAC5BSECQOVMZRPZO0GTRSTGKQJON37N4U3UWURES3SG8UU6CJ%2B6KMBFLHLTJXNPOAJJ%
 2FAB1FJME%2F0FYWBVAWITMEMQNROG35E1TSTOTVXIWE3CDMSOOJN57J93P0AEVW3ZNEHRPZPZ
 TLZRZMYMFF%2BZMRLHODF226VCZMURAYGEUFGWQFPQ66GXGMSNFMNBW31KLIXYXD7I8RGIAHWE
 KOFTPPN9RV3ATAJEYE5BCGESWQAMCHTOFX01BJA%2B2OTQ9HOANGBF29ECF7MXLZGQFQTQSDDY
 0MAQPA2QW4QFFMBHETYKUJM7BJOXJOSD6R%2FAKYXQAGB%2BHKON%2BTENORVTXLIAFQUTI3AC
 WDTJ%2FB2NU%2BEUTXPCXFVDORMBDUJVSMYZOI8MDEMOHZRE4HU7V4AZEZI18JLUALBGAY1KMN
 FAKZ1GVV7NE7FXHLDIG3ADIJRJWQRQYKESNJQSXNRZJ%2BGDWLT7EGAXS2HE9RMSOYKC6ZXA6W
 %2BHVD%2BCSJKCWRRIBEK666KEMPUMIUERRED4Q%2BJZXCZCKADJ2%2B7XOATCENF4YQDSHNQC
 P0MEHG%2BMALRZF7C67R9ULJD6QWE%2BW7C2MTWSDAVDXACNKSXAOEQRONQBS7GY2ZCS3LLYZC
 S2GYI8YKRAYRCDIYLTMXCUXYGDVV46WBF0Q4ICRZBHWCNRWG4T2HUWYQTNUWBMHSATBKQIEPMA
 K7TS8TA3IZ6WY4GUZWFCAAKMVQSSDXMRMWCEWO3NLQ2O40ROAFVQP0CAAZURZLDAJ3%2BTLF8O
 TXCWTGWBQEQ9KN6SONIBJ6RUGIGU6KKSC1ZZGCNV2ZJRWJY5IUK6BKSI1323ANT4O1JXI33HW6
 0SXBKPIE6%2BSYPDUVGBADXDINOQIWW021VZIGEGA6TO80DFFWAZLIDXLPRQPTTWL7B8%2BOK%
 2BN%2BZ%2BJR2RF8A2ONSVAD2L65DPPSETCXL3SI%2BIXAXZKF88SJU7MJ%2FMGQJPBINOY6%2
 B%2BUMRXUQ%2BJGC%2F504KWSOGPPWTG%2FQKBEOW0T8TVLFOWELF2IZDWNDDTRB6SJ%2BNFGG
 NHN3M%2B8ZGQD5JKKMNGLHBIQQPA3MEMGJSDQARPL5UNHSKUCNMFJPGYZOYZEEDYU79NJPVJH8
 U93OFJWCW8BYXLZTA56A6ELTVSKPBACWNUKCIIQC5PQYGC%2F61ABZJ2TRPJ0NXMEY5AFGAKXL
 Y4SSCU8TECFVGLVT7IJANXKDYGGGNU5Z1O0SELZASZGBPQB010HLXQRTTUG5BT6%2BRNUVXNJM
 IJ2MJA6AHUHQAFHQCHE9ABNI0EKX7WBWGFUFOPKKWLV26CZNXZ%2B8%2FCORHYNKJ5HW0NCBX1
 KCTLKX6JTN%2BZO84EKJXDJAEBVRCQ0EGD3ERGDDHONXMPBXASO9BOOABWROIYNDHONUNHWBTT
 LJLDOL%2FLIMWCJGNSIYL66LTVQMZZEBQ5BBZMXIQLJB9GHGXWQNRL36VW4ZTGXUIBSAGQQPNA
 AJNVPLEJESROO1PEFQPCBNBQT3WTZWMBDXEMAIGMUQ6N%2B8AXGCOHSJVCCHGXB8REZVMDXOMX
 2LVMDL9WBFZAJ8ZQ0YZJ1G2G0OZEN3DE3RUKLVG0TOH5%2BGDJJCGDKP46RYDBUXMIVXPHMYDZ
 EYJ6KJR0FA4%2B5BRLTLCMKBJYHTADJXLVPYGBZNEPX4ANWUBPDWWYIIKT4IDN51NWI8HJHEXF
 RMB3GUWXBZS0AT4SYMYPHK8TZ5RFTNE1O%2B1GAE3JCLEVXMU4VK5W2MOTIQPSYIBRQRDDJADC
 RGANABAWSPEVLP1DO28MKHDCKMVID%2B9CE5P8NSDO8MBXFXIBG%2BQW2FE8CDMEYWKQJ%2FAZ
 UP94QTS5YY2KROLXL%2BIDXSSZZP77NUDX0S0WDPG2SWGYAGUKLIINZONY94FVXY3TEL%2FEPZ
 NT7TKJKVELZYNTSQTBHNVSECFU6CJ9LMAKIJ%2B1GNXKDDXNU0STGEIW8VMQWPEZTM0JI5MBYD
 MHNRU8%2BXI1XAFGTXDCWPHAIAMIXU6QQNYCSHTL6VJ%2BG3O7VWXCHHV0JNOGGB5V1HJUBUXK
 T37OXMOYSXIBY%2B0JKF%2BB5VLO2HCKUF9OSIBZYQ2WYDDCBOGN7JODJSSB%2FH1SW7TFWI59
 NUXPDEUF3F1VGILC8GDZIKNNAJHORMXXR8KQUP73NLRVAHIZIIDZ4FZNABJEBRVZLIWGES3LM5
 FW20QBEAGNXTQNQFAUCTGCGXKXBWZW4HWBXD2FZGHAAMMXGSB0PAMYMHX7HQIBQKUZY%2BQXC5
 TCUNSY91BCI4QZMLN3XLCKITZAEKI9AAPSTVI8FNTAE6SUYT9LMJX10GT5GSVG7IS%2BFC7PVS
 PFR%2B2V3HB%2FWDZLV7CV5WX%2FPQN9OPN%2FKLTZ%2BNAX7GIK%2B11GNXOA7DUQBMEAFF0R
 Y7QQQSDBJP52RQCX1LVAK6X95J7QDAGNLYKNAKBAEZT%2FTX41PYWZVH8C24J5AHBTX4URAWID
 S0IXMQTOZPIJXCDXXYVFQPEEPWRFI5DGFJ0GPIAJEHUGEMTMSYPRLEBS5ZIGTBANNOEROYKB%2
 FOPB1P1XRHBJASJBZDCZUFFVLIFYRMM5VIEKK%2BIKNUZ6HPSUVJCZSYB8RIVX4ICSGAAGEI7C
 DBWCX9OEKCOVHMZZR4TO0MIMBQPJR5ALYRGMWIMXRSPOFKBQOJJXQJNTQ6ZMJZ9ZOKMO6QDGHM
 SY1AIHNUYO%2B1SQRND5HBT83FQAADWRETR0NXPTGK2VFY%2BRGZYIUXXEALQXBAMDGZY1VCU4
 OXIZOZZUCKPK5UA5ZVAWFIARRMHY3OMC2P7KZQT%2BVBOT5KIA8AZYHOSWBOY5TVNJELSXYSXO
 7OSXPN4IY2NNRQLM1DXDGAT1YMFAHU7CRDA8LBJIA%2BSG64ITA%2FULU5QVUNW97DUA%2BIJR
 JJ4MKMHZJA8R6LLN5VP1WFTT4%2FRJ56IP4UXW%2FGAMU8Q7TBLACJW%2BEBR1HH0GUV%2FAC1
 N%2BT%2BJXMG4NICJ7PGPMZP8UU23WTEHA2EVI%2FCDK2WGYXW8U6KEZPLH7NWA7A8UUJXY01O
 LT5PTC0XOAV2%2FATSB1GGFEIKL7N4GRI8MYN662I%2FICKFVRPXD7TXBIPOUMWURVDGJ9IMQ3
 TBH2U40HDWYCQWZAAVRCUVPEHM2U8%2BYKQDANDD4XHBD62BD60TXGI0ZCW06DKRO4RK69P%2B
 7XL9LXISJCOVPZNAXWTKBULZMAD9OPNBDTJXBEWRL20ZM4SFQIL87IJHMJY%2F3A4TYIGMXGN4
 UPBHEUFCCF0IPKTZZWCW0WCHO0PGBXEEQDPFVB2H7HXRTI5N7TTLLLY1BMSQPCMOJ23JM9DA5%
 2FWBL%2B0FYXEV1ALYOBYSFYHWUGQUH8LGPOK7HWXIQ4M0LI3EME0A6KKWNQKWRJWBI5ZYMX1L
 Z7I5NCS4L%2BKU%2FHLVND9WJRBZFZISXE0RCFVNAGGBZJO21B3T9%2BKHCPZVJBUK90QUCQSK
 MDJFMIBB3BK%2BVC17Z4CWMAB%2BHKWLGUORMK6KMV8WGJBKRWLXYCLX9V6S5A0TNXXWTOTVM1
 4K2S7CKE3XUJLCYRM03RT0LQ%2BYOMWRYRWDMVVW1ZTOUCASFG3HCKJFAHUZBUK2KTUGXUBYUF
 TKVME4HADJOAWRTPLITVWD7I8UWT28VASYYYAYUZCZTNYVMZEEMU9GGAW5NQ6VPF0F4P7UFDRJ
 LW15WGJBBUKM%2BLAZUD94JVUWYEQ7C8T7ZETYGQ20KNXZO7U53SMD7GBKSANCIBNWZ7R4DU5P
 7RDJ%2BAONSRJKW%2FJ7H%2FWB2LONNJQUGJQJIE896R%2BKCRA%2BPDOBJ099Z38M%2FH4QMF
 OLUEVUHPVRT%2BWBOG9340RGCGQQ7CF6MDWRYGSUDGEHBVBCWXPQNWKAG8%2BNTNYQTE4TFTCV
 V3OYJWSGGOJBTMTPY5JSTR1%2BO5JFMMAFAQY6DLMMM3IZONZPVQON3FSGFMUKDQSQCSQSPGPJ
 GWME7%2BVCX%2BOVKIXIZSFCBMAEBNZ0I0POQFIHFWCZSQVCK7HC7ENBYRP5VEITIDB8AOMWSA
 SBHJ33GGKTR0G400GV9ZETSJEE6A8%2FZKSDB0J86EATRYB2KNXQWFHPZJAMKQCWINCTGUYMRO
 X57HOAOTSBKQCDIONUA%2BKSJMK9FSI7960ME%2FDVIWH1VSKCWKGEMZUKSDCAZMVFGBNM45C2
 RYZOTMACYAAJNQAI%2FEFUHGOLNDBMZTCHVAUIQGCPCO0WNHOULCRZ7JXGJZMBLGSIHSRGWN8Z
 UPDCCLN1L1SLPD2JVJ9LBZJ%2FPKNG8P3JEUYRDWBY6DZNX2HURMDMFY2WQLPTLBESF3J1GO5B
 U7CEIVLLRKBLQPHSJWY53T%2B03LYQA3XBR4TZ0N7OKAGHENQFLZIQ6%2FJBGYEFSSJHIXORTP
 C0SDTQNOYBXD%2FO9YYBLWVNJBIFIUE7ADDO3JBGXHRZ3ERTXMNLHSLEW1NS2CDMMVUFYMMWIG
 XZ3OKVR2MM7OVAQSNFUEMZBUNBKZJUBBJZOKX86RBK3CPZQSAB0LDFYGBJZMP%2BH8LXDB8QLQ
 UHCJNELSBUYGO%2BNPCTFBZDSDAGAO0CVU0OPBF3UNPQADPYO1GYLHPM3MYK16CQVMMFJO7ADR
 FEDVZFG3CYRZCJK5KZIQ6GAACWCYEUCPLQ1BYM7I4FU8N54ORDAZBJMIYLIMROTE9PKRG4DRCL
 WI20%2BYM%2F3N8AXCU7UXNI8TS59F8KF%2BIMMCSU5EI5GBP7X1B7VNWVKAPOMYMU11LMW%2F
 AGEQ3RADQECI4ZJW3DNER5EL3ABT9UVBVIWDFOFPGB7SIXVHMJGQPIT4JY01Q2WPZBLDWYI%2B
 S5TLSTPAWJARKB1GGOP2HVOO3KCJGDY1CTOBV1WS4HGQWYSCORHI%2F8AZWR7I8FNOI2XUC2QQ
 VRA8YROGGAYKDKC1BH9LVZN6QV0Q0S3VBKOAS6IB09PL1OK6AEY5JHRXEEAEDOVUVCVLFUNDPO
 Z4OHZKOFQMXYQKTBMPEEHEQMUXWSC%2FFBV0YYBQUW5DVSXIEBIPCNKFZGNJ1ROFZHHJG2EW96
 7IDCTESLGYDV1C5VLJDQCTLIGATTWO7E8H7M8Y6ZSJDCTSEY93VBPT%2BIG2OCDDVYWMI7EUM1
 %2FEZJYOI22S2PPQF2MNMDTRW44OIYLHBNBQIWSMJ3ABRLUDPUYOIJJYSDQWPAMRDNTCU%2BNI
 XVCR2IIRNDVCUBJJQQQG143GHUDY61OU2%2BOL4S5BT2VANXDEDLLLL8LFCWYEMGNXBYMPTURP
 KSUM5%2F2FUNLXIB0DEUNQM4B8BVNH1YHMKD3ZQ3BSOVTG5%2BY5ZDJUIZFXWK9NTQMTJROMCH
 4GT91T19TEPPCFQ%2FIV5UX0BEFAB4UQWQA3E45ZMHJTGPWDCAI21%2FMUGBRBYGNOCQGNFY0J
 XTLSXEI%2BJKDSTE8VZRVFIL500CIJJM6ANSJ9K1CKMXK5EU8GBJE%2FIH2VGODAPDIGSDOCZR
 A%2FL99EYI8WKLO%2FIRP6Z%2BYPL1LIJPAY%2BYAIHICDOJID1PMIF8%2BIHBTLHRPMB7%2FA
 DPYZE8ZLAPI5NMFFV6U3DXBHIIG%2BYMROJ91WQ5VTM8IR7A5LZLLQZEADD4%2FGDQAPH8WFVB
 AWYIDC67AQWCRIVT%2BZYN930NZO%2B3XC0FJR5OZYZHMSWZEKY2%2F58QRBCF3AHP7Z%2BFNT
 NZ4G0CKHWKKDSBVCIKT6CHQ91MUKEGNZ9D92W%2F0RR3US1AHPGUUZAIOP%2BYJ39QKI4RBQMX
 QBWOXS6DV5H0KDKBYZVUNKQUE8OZGZESJKA6GCRLM%2BPMDZEAGJQITBWNDWMTWHNMYIS0AQOM
 5IUAHNA9R7ODW93MUAQAQXC%2BYMXYHRB8BE%2F615D4T9FDRNLM6YK5CQZWIR7WRQD6VMZCW2
 HV8ODLRHYIXVGM5BM5OBAZGUMHG80DW3IT02LVQZLMSQQOPYTMKPAGLPIJNZKIMPWZDJMM3DUD
 2OKLMAGGAHUTAGQTYAPUAHZHONSYC3DL21VE8VYRFDSV1ZVCQEK6EC4CLGVEUXE%2BEA6QUQI6
 T3YOZTODIKGDMP7K07CREZGEJGB7OHMMEXNO9GTABE3FULA1HSOIVQB9RMX69RTFWXCUIYZLRO
 5VBBY6ZY%2BUNW2828ZJMANNPNPCABUGOT2GZCWPUWL1J9TVHXZERB3YHRPHWBIHWC%2FGRFVG
 YS6KEQEBGUPOZX7IY91ZNIMI0UEAHMCGB2GCT8WBVS0WBUXBLZVVC%2FD5H8BZDEYOOUBNVYGC
 T7HHCYKJQBKXMYZ4NOHCODQO1MNQDFYLHUNUYAZNJQB7EKLIC4AER%2BY2PIT19K1TNFB2SX2W
 4ME0CG%2FYGCKFF56CJ3KXUNETOJ4LVZLTKXBG3NOBIQPADO%2BBBQDZNCG7SYRLEJZ7I%2BOU
 LIHGHFAIIXQA8GRYIFDV4J2YTPCNLBQZSSYLH8RZQ2UDYZJ15QDJRLDTEGD5WUZFFOWTBUVFSD
 TJDYQXDDEWFP99IFFXHQ%2BZQH7K8YAXDQQXCGKTKEKKRKAK7SJMX1NBNTPGVXFPMQHYNMYACY
 %2FSMINBSER865ZWZGFHW4U%2F8X%2FOTXJUJ97BSMTC7LCZSSJNEJFVXHSALYVN0MNDAQZ3QY
 XHC7US8F2DESZHKAV8AVTZEG2CDP2AJ40XN92C5NDKJNTVKRVC%2BUUGNHCCWRGW4VIDEYOEGA
 DCY76IZG%2FWNQN45WIZ3AYQ2627LQGFSZ7RIZS4CM0YIZLGLTYA0BWQMDGAQLBPCO%2F1BC4%
 2BUMIQUK2WBG1T6ZU45ANC1EYN6TEP%2B8X%2BNXHBCAMXZBC4ZXDLVXUMTUARNEZNLGZPTLM6
 DCSDBT65FCRKDAZB53FH41L19TOL6DL%2BJWAVVXCN%2FAN%2FP4T%2F%2BDKOWBVXXQY1OKSA
 JBKT7SUBMLDD9RIMRPUQIVX3OXMEDUMDEWKV1RIGCF9HR0JRPMK3MYMPZZQ2O0Y7HONIYWHHEX
 F62BCS4L5DILFCEEHMGMQNT%2FWTEE5WNMMQ2J0PLZ8XZGE%2F%2BVX%2FDJ9JWXCNQBQAJBIC
 T5GKZLZCZCQWJ11AEH4J06UVWU7KUQMACORGG68UEPQYAJHNBLGTGJLNOMYLJVGPGXH4VVDTAT
 ORAUZWKGXEUJIPIZAKFAJBOG%2BN1WFJJOAXJZ1GRPQAD6DPLWQ7UY5RT92ICALIVG%2BYERLD
 SRRSNUJGCXTZPV%2F2B4YL15MBRUUTOM50UCFUN%2B5WAUTVXRP0CO1VDTCCK52YAASFCOADOQ
 LSJQRTO%2FFCI2KKSDOD2JHQ%2FL5DKF4XGWT3GZWME%2FTEHAZAXTW67NYHVKXEOJDBVLZO5K
 IAFTUE%2FGR%2FH2ACLJCZG20EA%2B0DHWDQYHXOTI0QW8SGGHHHJNEQ7SY0IBBIPIGIN6FWFQ
 0E7A4C11ZOHXNGBWKAQRRP7R%2FGIBZFMYLIFGYEK4EZD4JMFJ0FV%2BJVZC%2FDNDZSUKXLGK
 GIU%2BE%2BLXLBG9TVSR23FE6ZQENOW2FOMYNKAGEB7JAUA6MZG0RWW4OQGQT1RLPGGGELQ5MA
 EIDJMOU%2FOHCRJXUMRBFGSSBC%2B91BNXNI5CQHXGE8LVQ0UQBVRHMFYYKZIOEXBUDWZRN1JS
 IQ6P4ZGR10CHISGXUWVICQ4YNTUJBY7C4W32M4TWBFNU4T66E8VNOBCBMSLEULGEFDPCCGWV0I
 AKZXGWCLH7S28RIBHYSFI1ZYKIAW1TYEDYBQEQHKH%2BZOJW2I4RG3JQWEDEB3ZWBNUIEVHV4I
 Z5CMZGRB2CQYDI2INWZ%2B9T8BA91ZLJ%2FFKTTASFOFWXW0N9RVANOZKBBWDPTOIN9BQOTTGW
 BKJBBGUDU6VYTTUZRJBL4TMUBTSQD7PSIIMR4UANYQKYNRHCNACR3T12EQAIZAYAAW3BSNO2RP
 OLXOJQIIYIZAAYKQA7ZPGQDB6XWK7C2KJN20XLKIKMRFVKZKEE5YZXHLYIA1HELLESVITU2MZZ
 ACDO5SEO11OORG1PZGD%2FOTYVRFXNV3ZMTTWDQSGCDIM%2BIFZN7XBGXD8OV2LDWSI2SVJBOT
 3YKEZGUGG7DKBZ0JLM1DS33BGQXUPIQW1ADDNQSXJZV0J5NLVVJ8VAZCUYXCYGYI6ERPQFIHL8
 P5TTX1MOAWDVQN75%2FGTDWJHWXQIUPLIS5OU8AG2UZT7BHVZB0B%2B%2FIYNJL9%2F%2FPWTP
 2TS3WCQIAKQXA7N7SPEDMTLOY65VEENTACA6UVPK97P9NXXVT7BG2JRBYSRUCJAAQLGAWMPECL
 BQCANI%2BD%2BIW7S5YUN0U4UNLCQQMYNTNJUYIIPF5MUGJHLWWSLI8QUY8FDM48AAE2SRHHAG
 M0AEDDJEZRYRF28PDZBBSLNULQWHJBCYZJMZ12AB9KIDBVFS%2B7P4KYPAIWWTWG6XL93AUMQG
 CROO8RHU2IIAI4LJO%2BZXIYNSDST0PT3IH%2BIXMCL7ZMTNHSPILSRIBYZDINWTJGAJNQ%2FC
 MQH7U4HBLSQU3CBSXVSDYAPQOIQ7%2FSH%2FWBQP%2BGV%2FTRYTB9G8VKF517U4FK13D%2F93
 %2FATBWV1I9F%2FANGPUQWQQWHA%2FWDRTEH%2FXCS%2FWF21934V5SRO%2FSJ9RDIX61V4FXR
 I8W%2FWN6LSPU%2BCU9ZY%2BTDU7B%2F1S3%2F%2BT%2FE1E0QFX0L9CEA%2FRRX8J%2B41SU0
 V9TB%2BC7%2FLNSPVNFST6YLGH9XUETV%2FADUONEFRF%2FGB7JXTKILFJC5FWJ8KMWP63DF95
 F8A8MAVKPOCEKEY1ZZTD%2FVML%2FWRN%2BGLSQUFPPZ9RHG2X%2FJP3TUPA3%2BSYN%2FHW%2
 F8ALELSQP9S59UIFO5%2F%2BJR%2FAAP9XQ%2BXX%2B5%2FU%2F4TXTKUFV7A8QDF1MI9F%2FW
 1IRNT2F8AHN72PUQFXFA%2B3MCFT%2BFSRXREWF8AV738DR%2FLELSRO7%2FFJPTQEGFRH9E%2
 B5QEW36ZIH%2FBT%2FWCA9E0QX%2BP8L9FQXSL%2FAFHD%2BN%2FQRM8M%2FQYF97H%2FAJMVA
 VBSV07FSPUQSH%2F%2F2Q%3D%3D%22+ALT%3D%22PERCHE+%C3%A0+SELFIE+D%27INSTALLAT
 ION+MOTO+...%22+STYLE%3D%22MAX-WIDTH%3A+100%25%3B+HEIGHT%3A+AUTO%3B+COLOR%
 3A+RGB%2834%2C+34%2C+34%29%3B%22%3E%3CSPAN+STYLE%3D%22COLOR%3A+RGB%2834%2C
 +34%2C+34%29%3B%22%3E%26NBSP%3B+%26NBSP%3B%26NBSP%3B%3C%2FSPAN%3E%3C%2FP%3
 E%3CP%3E%3CSPAN+STYLE%3D%22COLOR%3A+RGB%2834%2C+34%2C+34%29%3B%22%3E%3CBR%
 3E%3C%2FSPAN%3E%3C%2FP%3E%3CP%3E%3CSPAN+STYLE%3D%22COLOR%3A+RGB%2834%2C+34
 %2C+34%29%3B%22%3ELE+CLASSEMENT+INTERM%C3%A9DIAIRE%26NBSP%3B+DE+L%27%C3%A9
 TAPE+%233%2F4+DU%26NBSP%3B%3CA+HREF%3D%22HTTPS%3A%2F%2FENSIMAG-ALUMNI.COM%
 2FPAGES%2FSALON-PAGE-CONCOURS-PHOTOS-DE-PROFIL-ETE-2025%22+TARGET%3D%22-BL
 ANK%22%3ECONCOURS+PHOTO+%C3%A9T%C3%A9+2025%3C%2FA%3E%26NBSP%3BSERA+ANNONC%
 C3%A9+ICI.+PR%C3%A9PAREZ-VOUS+%21%3C%2FSPAN%3E%3C%2FP%3E":Détails partici
 pants: https://ensimag-alumni.com/events/concours-photo-d-ete-ensimag-alum
 ni-classement-etape-3\n\n\n_*Mise à jour 28 septembre:*_\nLe troisième c
 lassement intermédiaire mensuel est publié !\n\n\n\nArrêté au 28 septe
 mbre\, tu peux aller le voir dans cette page par catégorie ( https://ensi
 mag-alumni.com/pages/salon-page-concours-photos-de-profil-ete-2025#classem
 ent3 )\, et cliquer et liker celles que tu aimes ! Attention: plus que 2 j
 ours pour le classement final et définitif !\n\n_*Mise à jour 25 juin:*_
 \n\nImage (extirpée): DJI Neo: the latest rumors and ...  Image (extirpé
 e): Perche monopod Selfie pour Vidéos ...  Image (extirpée): perche à s
 elfie d'installation moto ...\n\n\n\nLe classement intermédiaire  de l'é
 tape #3/4 du concours photo été 2025 ( https://ensimag-alumni.com/pages/
 salon-page-concours-photos-de-profil-ete-2025 ) sera annoncé ici. Prépar
 ez-vous !\n
END:VEVENT
END:VCALENDAR
